BEGIN:VCALENDAR
VERSION:2.0
PRODID:-//SESG B2B PreSales - ECPv6.15.20//NONSGML v1.0//EN
CALSCALE:GREGORIAN
METHOD:PUBLISH
X-ORIGINAL-URL:https://sesgb2b.ch
X-WR-CALDESC:Events for SESG B2B PreSales
REFRESH-INTERVAL;VALUE=DURATION:PT1H
X-Robots-Tag:noindex
X-PUBLISHED-TTL:PT1H
BEGIN:VTIMEZONE
TZID:Europe/Zurich
BEGIN:DAYLIGHT
TZOFFSETFROM:+0100
TZOFFSETTO:+0200
TZNAME:CEST
DTSTART:20200329T010000
END:DAYLIGHT
BEGIN:STANDARD
TZOFFSETFROM:+0200
TZOFFSETTO:+0100
TZNAME:CET
DTSTART:20201025T010000
END:STANDARD
BEGIN:DAYLIGHT
TZOFFSETFROM:+0100
TZOFFSETTO:+0200
TZNAME:CEST
DTSTART:20210328T010000
END:DAYLIGHT
BEGIN:STANDARD
TZOFFSETFROM:+0200
TZOFFSETTO:+0100
TZNAME:CET
DTSTART:20211031T010000
END:STANDARD
BEGIN:DAYLIGHT
TZOFFSETFROM:+0100
TZOFFSETTO:+0200
TZNAME:CEST
DTSTART:20220327T010000
END:DAYLIGHT
BEGIN:STANDARD
TZOFFSETFROM:+0200
TZOFFSETTO:+0100
TZNAME:CET
DTSTART:20221030T010000
END:STANDARD
BEGIN:DAYLIGHT
TZOFFSETFROM:+0100
TZOFFSETTO:+0200
TZNAME:CEST
DTSTART:20230326T010000
END:DAYLIGHT
BEGIN:STANDARD
TZOFFSETFROM:+0200
TZOFFSETTO:+0100
TZNAME:CET
DTSTART:20231029T010000
END:STANDARD
BEGIN:DAYLIGHT
TZOFFSETFROM:+0100
TZOFFSETTO:+0200
TZNAME:CEST
DTSTART:20240331T010000
END:DAYLIGHT
BEGIN:STANDARD
TZOFFSETFROM:+0200
TZOFFSETTO:+0100
TZNAME:CET
DTSTART:20241027T010000
END:STANDARD
END:VTIMEZONE
BEGIN:VEVENT
DTSTART;TZID=Europe/Zurich:20230608T083000
DTEND;TZID=Europe/Zurich:20230609T163000
DTSTAMP:20260423T173446
CREATED:20221214T095206Z
LAST-MODIFIED:20230113T152735Z
UID:10000067-1686213000-1686328200@sesgb2b.ch
SUMMARY:MagicINFO Training Lausanne 06.2023
DESCRIPTION:Cette formation comprend une certification complète et l’examen final au terme des deux jours. Durant ces deux jours\, nous vous donnerons un aperçu approfondi de notre gamme de produit\, nous vous expliquerons les différences entre les produits LED et LFD et nous vous formerons à l’installation\, la configuration et l’octroi de licences pour MagicINFO. \n\n\n\nCette formation s’adresse aux techniciens qui ont de bonnes connaissances en réseaux IP\, qui peuvent gérer des serveurs Windows et des PCs\, et qui sont intéressés par l’installation et la configuration de notre solution MagicINFO.Le nombre de participants est limité à 6 par session\, l’ordre d’inscription compte. Coûts : Maximum 1500 CHF pour les deux jours de certification et vous recevrez les produits suivants : \n\n\n\n2x QB13R Smart Signage Display (Player S6)2x licences MagicINFO UNIFIED 22x licences DataLink\n\n\n\nCes produits vous permettrons de mettre en place votre propre lab et d’utiliser la solution après la certification. Bien entendu\, libre à vous de revendre ces produits après la formation et/ou de fusionner les licences avec des licences existantes si vous le souhaitez. Après l’inscription obligatoire\, vous recevrez une offre du distributeur que vous avez choisi. Vous devrez confirmer l’offre et passer commande au plus tard 14 jours avant le début de la formation. Votre inscription ne sera validée qu’après confirmation de la commande auprès de votre distributeur. \n\n\n\nImportant : Si vous ne réussissez pas l’examen final\, vous ne serez pas certifié. Vous aurez néanmoins la possibilité de participer gratuitement à nouveau à l’une des prochaines certifications.
URL:https://sesgb2b.ch/portal/magicinfo-training-lausanne-06-2022/
LOCATION:Samsung Lausanne\, Avenue Gratta-Paille 1\, Lausanne\, VD\, 1018\, Switzerland
CATEGORIES:Training FR
ATTACH;FMTTYPE=image/jpeg:https://sesgb2b.ch/wp-content/uploads/2021/03/https___cdn.evbuc_.com_images_112249695_315811006879_1_original.jpeg
ORGANIZER;CN="SESG PreSales (FR)":MAILTO:w.chatelain@partner.samsung.com
END:VEVENT
BEGIN:VEVENT
DTSTART;TZID=Europe/Zurich:20230302T083000
DTEND;TZID=Europe/Zurich:20230303T163000
DTSTAMP:20260423T173446
CREATED:20221214T093825Z
LAST-MODIFIED:20230113T153927Z
UID:10000066-1677745800-1677861000@sesgb2b.ch
SUMMARY:MagicINFO Training Lausanne 03.2023
DESCRIPTION:Cette formation comprend une certification complète et l’examen final au terme des deux jours. Durant ces deux jours\, nous vous donnerons un aperçu approfondi de notre gamme de produit\, nous vous expliquerons les différences entre les produits LED et LFD et nous vous formerons à l’installation\, la configuration et l’octroi de licences pour MagicINFO. \n\n\n\nCette formation s’adresse aux techniciens qui ont de bonnes connaissances en réseaux IP\, qui peuvent gérer des serveurs Windows et des PCs\, et qui sont intéressés par l’installation et la configuration de notre solution MagicINFO.Le nombre de participants est limité à 6 par session\, l’ordre d’inscription compte. Coûts : Maximum 1500 CHF pour les deux jours de certification et vous recevrez les produits suivants : \n\n\n\n2x QB13R Smart Signage Display (Player S6)2x licences MagicINFO UNIFIED 22x licences DataLink\n\n\n\nCes produits vous permettrons de mettre en place votre propre lab et d’utiliser la solution après la certification. Bien entendu\, libre à vous de revendre ces produits après la formation et/ou de fusionner les licences avec des licences existantes si vous le souhaitez. Après l’inscription obligatoire\, vous recevrez une offre du distributeur que vous avez choisi. Vous devrez confirmer l’offre et passer commande au plus tard 14 jours avant le début de la formation. Votre inscription ne sera validée qu’après confirmation de la commande auprès de votre distributeur. \n\n\n\nImportant : Si vous ne réussissez pas l’examen final\, vous ne serez pas certifié. Vous aurez néanmoins la possibilité de participer gratuitement à nouveau à l’une des prochaines certifications.
URL:https://sesgb2b.ch/portal/magicinfo-training-lausanne-03-2022/
LOCATION:Samsung Lausanne\, Avenue Gratta-Paille 1\, Lausanne\, VD\, 1018\, Switzerland
CATEGORIES:Training FR
ATTACH;FMTTYPE=image/jpeg:https://sesgb2b.ch/wp-content/uploads/2021/03/https___cdn.evbuc_.com_images_112249695_315811006879_1_original.jpeg
ORGANIZER;CN="SESG PreSales (FR)":MAILTO:w.chatelain@partner.samsung.com
END:VEVENT
BEGIN:VEVENT
DTSTART;TZID=Europe/Zurich:20221006T083000
DTEND;TZID=Europe/Zurich:20221007T163000
DTSTAMP:20260423T173446
CREATED:20220126T171146Z
LAST-MODIFIED:20221214T094910Z
UID:10000054-1665045000-1665160200@sesgb2b.ch
SUMMARY:MagicINFO Training Lausanne 10.2022
DESCRIPTION:Cette formation comprend une certification complète et l’examen final au terme des deux jours. Durant ces deux jours\, nous vous donnerons un aperçu approfondi de notre gamme de produit\, nous vous expliquerons les différences entre les produits LED et LFD et nous vous formerons à l’installation\, la configuration et l’octroi de licences pour MagicINFO. \n\n\n\nCette formation s’adresse aux techniciens qui ont de bonnes connaissances en réseaux IP\, qui peuvent gérer des serveurs Windows et des PCs\, et qui sont intéressés par l’installation et la configuration de notre solution MagicINFO.Le nombre de participants est limité à 6 par session\, l’ordre d’inscription compte. Coûts : Maximum 1500 CHF pour les deux jours de certification et vous recevrez les produits suivants : \n\n\n\n2x QB13R Smart Signage Display (Player S6)2x licences MagicINFO UNIFIED 22x licences DataLink\n\n\n\nCes produits vous permettrons de mettre en place votre propre lab et d’utiliser la solution après la certification. Bien entendu\, libre à vous de revendre ces produits après la formation et/ou de fusionner les licences avec des licences existantes si vous le souhaitez. Après l’inscription obligatoire\, vous recevrez une offre du distributeur que vous avez choisi. Vous devrez confirmer l’offre et passer commande au plus tard 14 jours avant le début de la formation. Votre inscription ne sera validée qu’après confirmation de la commande auprès de votre distributeur. \n\n\n\nImportant : Si vous ne réussissez pas l’examen final\, vous ne serez pas certifié. Vous aurez néanmoins la possibilité de participer gratuitement à nouveau à l’une des prochaines certifications.
URL:https://sesgb2b.ch/portal/magicinfo-training-lausanne-3/
LOCATION:Samsung Lausanne\, Avenue Gratta-Paille 1\, Lausanne\, VD\, 1018\, Switzerland
CATEGORIES:Training FR
ATTACH;FMTTYPE=image/jpeg:https://sesgb2b.ch/wp-content/uploads/2021/03/https___cdn.evbuc_.com_images_112249695_315811006879_1_original.jpeg
ORGANIZER;CN="SESG PreSales (FR)":MAILTO:w.chatelain@partner.samsung.com
END:VEVENT
BEGIN:VEVENT
DTSTART;TZID=Europe/Zurich:20220602T083000
DTEND;TZID=Europe/Zurich:20220603T163000
DTSTAMP:20260423T173446
CREATED:20220126T170450Z
LAST-MODIFIED:20221214T094626Z
UID:10000053-1654158600-1654273800@sesgb2b.ch
SUMMARY:MagicINFO Training Lausanne 06.2022
DESCRIPTION:Cette formation comprend une certification complète et l’examen final au terme des deux jours. Durant ces deux jours\, nous vous donnerons un aperçu approfondi de notre gamme de produit\, nous vous expliquerons les différences entre les produits LED et LFD et nous vous formerons à l’installation\, la configuration et l’octroi de licences pour MagicINFO. \n\n\n\nCette formation s’adresse aux techniciens qui ont de bonnes connaissances en réseaux IP\, qui peuvent gérer des serveurs Windows et des PCs\, et qui sont intéressés par l’installation et la configuration de notre solution MagicINFO.Le nombre de participants est limité à 6 par session\, l’ordre d’inscription compte. Coûts : Maximum 1500 CHF pour les deux jours de certification et vous recevrez les produits suivants : \n\n\n\n2x QB13R Smart Signage Display (Player S6)2x licences MagicINFO UNIFIED 22x licences DataLink\n\n\n\nCes produits vous permettrons de mettre en place votre propre lab et d’utiliser la solution après la certification. Bien entendu\, libre à vous de revendre ces produits après la formation et/ou de fusionner les licences avec des licences existantes si vous le souhaitez. Après l’inscription obligatoire\, vous recevrez une offre du distributeur que vous avez choisi. Vous devrez confirmer l’offre et passer commande au plus tard 14 jours avant le début de la formation. Votre inscription ne sera validée qu’après confirmation de la commande auprès de votre distributeur. \n\n\n\nImportant : Si vous ne réussissez pas l’examen final\, vous ne serez pas certifié. Vous aurez néanmoins la possibilité de participer gratuitement à nouveau à l’une des prochaines certifications.
URL:https://sesgb2b.ch/portal/magicinfo-training-lausanne-2/
LOCATION:Samsung Lausanne\, Avenue Gratta-Paille 1\, Lausanne\, VD\, 1018\, Switzerland
CATEGORIES:Training FR
ATTACH;FMTTYPE=image/jpeg:https://sesgb2b.ch/wp-content/uploads/2021/03/https___cdn.evbuc_.com_images_112249695_315811006879_1_original.jpeg
ORGANIZER;CN="SESG PreSales (FR)":MAILTO:w.chatelain@partner.samsung.com
END:VEVENT
BEGIN:VEVENT
DTSTART;TZID=Europe/Zurich:20220303T083000
DTEND;TZID=Europe/Zurich:20220304T163000
DTSTAMP:20260423T173446
CREATED:20211206T182559Z
LAST-MODIFIED:20221214T094844Z
UID:10000043-1646296200-1646411400@sesgb2b.ch
SUMMARY:MagicINFO Training Lausanne 03.2022
DESCRIPTION:Cette formation comprend une certification complète et l’examen final au terme des deux jours. Durant ces deux jours\, nous vous donnerons un aperçu approfondi de notre gamme de produit\, nous vous expliquerons les différences entre les produits LED et LFD et nous vous formerons à l’installation\, la configuration et l’octroi de licences pour MagicINFO. \n\n\n\nCette formation s’adresse aux techniciens qui ont de bonnes connaissances en réseaux IP\, qui peuvent gérer des serveurs Windows et des PCs\, et qui sont intéressés par l’installation et la configuration de notre solution MagicINFO.Le nombre de participants est limité à 6 par session\, l’ordre d’inscription compte. Coûts : Maximum 1500 CHF pour les deux jours de certification et vous recevrez les produits suivants : \n\n\n\n2x QB13R Smart Signage Display (Player S6)2x licences MagicINFO UNIFIED 22x licences DataLink\n\n\n\nCes produits vous permettrons de mettre en place votre propre lab et d’utiliser la solution après la certification. Bien entendu\, libre à vous de revendre ces produits après la formation et/ou de fusionner les licences avec des licences existantes si vous le souhaitez. Après l’inscription obligatoire\, vous recevrez une offre du distributeur que vous avez choisi. Vous devrez confirmer l’offre et passer commande au plus tard 14 jours avant le début de la formation. Votre inscription ne sera validée qu’après confirmation de la commande auprès de votre distributeur. \n\n\n\nImportant : Si vous ne réussissez pas l’examen final\, vous ne serez pas certifié. Vous aurez néanmoins la possibilité de participer gratuitement à nouveau à l’une des prochaines certifications.
URL:https://sesgb2b.ch/portal/magicinfo-training-lausanne/
LOCATION:Samsung Lausanne\, Avenue Gratta-Paille 1\, Lausanne\, VD\, 1018\, Switzerland
CATEGORIES:Training FR
ATTACH;FMTTYPE=image/jpeg:https://sesgb2b.ch/wp-content/uploads/2021/03/https___cdn.evbuc_.com_images_112249695_315811006879_1_original.jpeg
ORGANIZER;CN="SESG PreSales (FR)":MAILTO:w.chatelain@partner.samsung.com
END:VEVENT
BEGIN:VEVENT
DTSTART;TZID=Europe/Zurich:20211104T083000
DTEND;TZID=Europe/Zurich:20211105T163000
DTSTAMP:20260423T173446
CREATED:20210414T172943Z
LAST-MODIFIED:20221214T094829Z
UID:10000036-1636014600-1636129800@sesgb2b.ch
SUMMARY:MagicINFO Training Lausanne
DESCRIPTION:Cette formation comprend une certification complète et l’examen final au terme des deux jours. Durant ces deux jours\, nous vous donnerons un aperçu approfondi de notre gamme de produit\, nous vous expliquerons les différences entre les produits LED et LFD et nous vous formerons à l’installation\, la configuration et l’octroi de licences pour MagicINFO. \n\n\n\nCette formation s’adresse aux techniciens qui ont de bonnes connaissances en réseaux IP\, qui peuvent gérer des serveurs Windows et des PCs\, et qui sont intéressés par l’installation et la configuration de notre solution MagicINFO.Le nombre de participants est limité à 6 par session\, l’ordre d’inscription compte. Coûts : Maximum 1500 CHF pour les deux jours de certification et vous recevrez les produits suivants : \n\n\n\n2x QB13R Smart Signage Display (Player S6)2x licences MagicINFO UNIFIED 22x licences DataLink\n\n\n\nCes produits vous permettrons de mettre en place votre propre lab et d’utiliser la solution après la certification. Bien entendu\, libre à vous de revendre ces produits après la formation et/ou de fusionner les licences avec des licences existantes si vous le souhaitez. Après l’inscription obligatoire\, vous recevrez une offre du distributeur que vous avez choisi. Vous devrez confirmer l’offre et passer commande au plus tard 14 jours avant le début de la formation. Votre inscription ne sera validée qu’après confirmation de la commande auprès de votre distributeur. \n\n\n\nImportant : Si vous ne réussissez pas l’examen final\, vous ne serez pas certifié. Vous aurez néanmoins la possibilité de participer gratuitement à nouveau à l’une des prochaines certifications.
URL:https://sesgb2b.ch/portal/magicinfo-training-lausanne-2021-11-04/
LOCATION:Samsung Lausanne\, Avenue Gratta-Paille 1\, Lausanne\, VD\, 1018\, Switzerland
CATEGORIES:Training FR
ATTACH;FMTTYPE=image/jpeg:https://sesgb2b.ch/wp-content/uploads/2021/03/https___cdn.evbuc_.com_images_112249695_315811006879_1_original.jpeg
ORGANIZER;CN="SESG PreSales (FR)":MAILTO:w.chatelain@partner.samsung.com
END:VEVENT
BEGIN:VEVENT
DTSTART;TZID=Europe/Zurich:20210729T083000
DTEND;TZID=Europe/Zurich:20210730T163000
DTSTAMP:20260423T173446
CREATED:20210503T100108Z
LAST-MODIFIED:20221214T094819Z
UID:10000039-1627547400-1627662600@sesgb2b.ch
SUMMARY:MagicINFO Training Lausanne
DESCRIPTION:Cette formation comprend une certification complète et l’examen final au terme des deux jours. Durant ces deux jours\, nous vous donnerons un aperçu approfondi de notre gamme de produit\, nous vous expliquerons les différences entre les produits LED et LFD et nous vous formerons à l’installation\, la configuration et l’octroi de licences pour MagicINFO. \n\n\n\nCette formation s’adresse aux techniciens qui ont de bonnes connaissances en réseaux IP\, qui peuvent gérer des serveurs Windows et des PCs\, et qui sont intéressés par l’installation et la configuration de notre solution MagicINFO.Le nombre de participants est limité à 6 par session\, l’ordre d’inscription compte. Coûts : Maximum 1500 CHF pour les deux jours de certification et vous recevrez les produits suivants : \n\n\n\n2x QB13R Smart Signage Display (Player S6)2x licences MagicINFO UNIFIED 22x licences DataLink\n\n\n\nCes produits vous permettrons de mettre en place votre propre lab et d’utiliser la solution après la certification. Bien entendu\, libre à vous de revendre ces produits après la formation et/ou de fusionner les licences avec des licences existantes si vous le souhaitez. Après l’inscription obligatoire\, vous recevrez une offre du distributeur que vous avez choisi. Vous devrez confirmer l’offre et passer commande au plus tard 14 jours avant le début de la formation. Votre inscription ne sera validée qu’après confirmation de la commande auprès de votre distributeur. \n\n\n\nImportant : Si vous ne réussissez pas l’examen final\, vous ne serez pas certifié. Vous aurez néanmoins la possibilité de participer gratuitement à nouveau à l’une des prochaines certifications.
URL:https://sesgb2b.ch/portal/magicinfo-training-lausanne-2021-06-29/
LOCATION:Samsung Lausanne\, Avenue Gratta-Paille 1\, Lausanne\, VD\, 1018\, Switzerland
CATEGORIES:Training FR
ORGANIZER;CN="SESG PreSales (FR)":MAILTO:w.chatelain@partner.samsung.com
END:VEVENT
BEGIN:VEVENT
DTSTART;TZID=Europe/Zurich:20210624T083000
DTEND;TZID=Europe/Zurich:20210625T163000
DTSTAMP:20260423T173446
CREATED:20210414T165417Z
LAST-MODIFIED:20221214T094811Z
UID:10000035-1624523400-1624638600@sesgb2b.ch
SUMMARY:MagicINFO Training Lausanne
DESCRIPTION:Cette formation comprend une certification complète et l’examen final au terme des deux jours. Durant ces deux jours\, nous vous donnerons un aperçu approfondi de notre gamme de produit\, nous vous expliquerons les différences entre les produits LED et LFD et nous vous formerons à l’installation\, la configuration et l’octroi de licences pour MagicINFO. \n\n\n\nCette formation s’adresse aux techniciens qui ont de bonnes connaissances en réseaux IP\, qui peuvent gérer des serveurs Windows et des PCs\, et qui sont intéressés par l’installation et la configuration de notre solution MagicINFO.Le nombre de participants est limité à 6 par session\, l’ordre d’inscription compte. Coûts : Maximum 1500 CHF pour les deux jours de certification et vous recevrez les produits suivants : \n\n\n\n2x QB13R Smart Signage Display (Player S6)2x licences MagicINFO UNIFIED 22x licences DataLink\n\n\n\nCes produits vous permettrons de mettre en place votre propre lab et d’utiliser la solution après la certification. Bien entendu\, libre à vous de revendre ces produits après la formation et/ou de fusionner les licences avec des licences existantes si vous le souhaitez. Après l’inscription obligatoire\, vous recevrez une offre du distributeur que vous avez choisi. Vous devrez confirmer l’offre et passer commande au plus tard 14 jours avant le début de la formation. Votre inscription ne sera validée qu’après confirmation de la commande auprès de votre distributeur. \n\n\n\nImportant : Si vous ne réussissez pas l’examen final\, vous ne serez pas certifié. Vous aurez néanmoins la possibilité de participer gratuitement à nouveau à l’une des prochaines certifications.
URL:https://sesgb2b.ch/portal/magicinfo-training-lausanne-2021-06-24/
LOCATION:Samsung Lausanne\, Avenue Gratta-Paille 1\, Lausanne\, VD\, 1018\, Switzerland
CATEGORIES:Training FR
ATTACH;FMTTYPE=image/jpeg:https://sesgb2b.ch/wp-content/uploads/2021/03/https___cdn.evbuc_.com_images_112249695_315811006879_1_original.jpeg
ORGANIZER;CN="SESG PreSales (FR)":MAILTO:w.chatelain@partner.samsung.com
END:VEVENT
END:VCALENDAR