BEGIN:VCALENDAR
VERSION:2.0
PRODID:-//SESG B2B PreSales - ECPv6.15.20//NONSGML v1.0//EN
CALSCALE:GREGORIAN
METHOD:PUBLISH
X-WR-CALNAME:SESG B2B PreSales
X-ORIGINAL-URL:https://sesgb2b.ch
X-WR-CALDESC:Events for SESG B2B PreSales
REFRESH-INTERVAL;VALUE=DURATION:PT1H
X-Robots-Tag:noindex
X-PUBLISHED-TTL:PT1H
BEGIN:VTIMEZONE
TZID:Europe/Zurich
BEGIN:DAYLIGHT
TZOFFSETFROM:+0100
TZOFFSETTO:+0200
TZNAME:CEST
DTSTART:20200329T010000
END:DAYLIGHT
BEGIN:STANDARD
TZOFFSETFROM:+0200
TZOFFSETTO:+0100
TZNAME:CET
DTSTART:20201025T010000
END:STANDARD
BEGIN:DAYLIGHT
TZOFFSETFROM:+0100
TZOFFSETTO:+0200
TZNAME:CEST
DTSTART:20210328T010000
END:DAYLIGHT
BEGIN:STANDARD
TZOFFSETFROM:+0200
TZOFFSETTO:+0100
TZNAME:CET
DTSTART:20211031T010000
END:STANDARD
BEGIN:DAYLIGHT
TZOFFSETFROM:+0100
TZOFFSETTO:+0200
TZNAME:CEST
DTSTART:20220327T010000
END:DAYLIGHT
BEGIN:STANDARD
TZOFFSETFROM:+0200
TZOFFSETTO:+0100
TZNAME:CET
DTSTART:20221030T010000
END:STANDARD
END:VTIMEZONE
BEGIN:VEVENT
DTSTART;TZID=Europe/Zurich:20211110T090000
DTEND;TZID=Europe/Zurich:20211110T110000
DTSTAMP:20260423T173811
CREATED:20210422T141423Z
LAST-MODIFIED:20221214T094836Z
UID:10000038-1636534800-1636542000@sesgb2b.ch
SUMMARY:MagicINFO Update Event 21/02 - Online FR
DESCRIPTION:Chers partenaires\, \n\n\n\nNous sommes très heureux de vous inviter au prochain Update Event MagicINFO qui se déroulera en ligne au vu de la situation sanitaire actuelle. \n\n\n\nCet Update Event vous permettra de renouveler votre certification MagicINFO pour une durée de 18 mois. \n\n\n\nSi vous n’êtes pas encore certifié\, nous vous invitons à contacter votre Key Account Manager Samsung afin qu’il vous informe des prochaines dates de certification. \n\n\n\nDurant cet Update Event\, nous vous présenterons les points suivants : \n\n\n\nLes nouveautés sur MagicINFOLes nouveautés sur les modules MagicINFOLes nouveautés sur nos produits B2BDes informations sur certains changements chez SamsungUne petite activité pratique sur MagicINFOUne success story en Suisse\n\n\n\nLe nombre de participants à cet Update Event étant limité\, nous vous invitons à vous inscrire au plus vite pour vous garantir une place. La participation à cet Update Event est gratuite. \n\n\n\nPour rappel\, l’accès à cet Update Event est uniquement réservé aux personnes certifiées MagicINFO. \n\n\n\nLe lien de participation vous sera envoyé par email 24 heures avant le début de l’événement. \n\n\n\nNous nous réjouissons de pouvoir vous accueillir lors de cet événement et restons volontiers à disposition pour tout complément d’information. \n\n\n\nL’équipe Presales Samsung Electronics Switzerland GmbH \n\n\n\n\n\n\n\nInscription : À partir du 01 avril 2021 sur cette page.
URL:https://sesgb2b.ch/portal/magicinfo-update-event-21-02-online-fr/
LOCATION:Online\, Online\, Switzerland
CATEGORIES:Update Events FR
ORGANIZER;CN="SESG PreSales (FR)":MAILTO:w.chatelain@partner.samsung.com
END:VEVENT
BEGIN:VEVENT
DTSTART;TZID=Europe/Zurich:20210708T090000
DTEND;TZID=Europe/Zurich:20210708T110000
DTSTAMP:20260423T173811
CREATED:20210625T114253Z
LAST-MODIFIED:20210625T114842Z
UID:10000041-1625734800-1625742000@sesgb2b.ch
SUMMARY:MagicINFO Update-Event - Italiano - 07.2021
DESCRIPTION:Cari Partner MagicINFO \n\n\n\nSiamo molto lieti di invitarvi al prossimo evento di aggiornamento di MagicINFO\, che avrà luogo online a causa della situazione attuale.Con questo evento di aggiornamento puoi rinnovare la tua certificazione MagicINFO per un periodo di 18 mesi. \n\n\n\nSe non siete ancora certificati\, contattate il vostro Samsung Key Account Manager in modo che possa informarvi sulle prossime date di certificazione. \n\n\n\nDurante questo evento di aggiornamento\, vi presenteremo: \n\n\n\nCosa c’è di nuovo in MagicINFOCosa c’è di nuovo nei moduli MagicINFOCosa c’è di nuovo nei nostri prodotti B2BInformazioni su alcuni cambiamenti in Samsung\n\n\n\nPoiché il numero di partecipanti a questo evento di aggiornamento è limitato\, si prega di registrarsi il prima possibile per garantire un posto. La partecipazione a questo evento di aggiornamento è gratuita. \n\n\n\nImportante:  la registrazione per questo evento di aggiornamento è aperta solo a persone certificate MagicINFO. \n\n\n\nIl link di partecipazione ti sarà inviato per email 24 ore prima dell’evento. \n\n\n\nNon vediamo l’ora di darvi il benvenuto a questo evento.
URL:https://sesgb2b.ch/portal/magicinfo-update-event-italiano-07-2021/
LOCATION:Online\, Online\, Switzerland
CATEGORIES:Update Events DE
ATTACH;FMTTYPE=image/jpeg:https://sesgb2b.ch/wp-content/uploads/2021/03/Isometric_business_concept_e-learning_for_second_higher_education__self-study__advanced_training._Great_concept_for_a_Landing_page-scaled.jpg
ORGANIZER;CN="SESG PreSales (DE)":MAILTO:t.beck@partner.samsung.com
END:VEVENT
BEGIN:VEVENT
DTSTART;TZID=Europe/Zurich:20210616T130000
DTEND;TZID=Europe/Zurich:20210616T150000
DTSTAMP:20260423T173811
CREATED:20210413T125411Z
LAST-MODIFIED:20221214T094801Z
UID:10000034-1623848400-1623855600@sesgb2b.ch
SUMMARY:MagicINFO Update Event 21/01- Online FR
DESCRIPTION:Chers partenaires\, \n\n\n\nNous sommes très heureux de vous inviter au prochain Update Event MagicINFO qui se déroulera en ligne au vu de la situation sanitaire actuelle. \n\n\n\nCet Update Event vous permettra de renouveler votre certification MagicINFO pour une durée de 18 mois. \n\n\n\nSi vous n’êtes pas encore certifié\, nous vous invitons à contacter votre Key Account Manager Samsung afin qu’il vous informe des prochaines dates de certification. \n\n\n\nDurant cet Update Event\, nous vous présenterons les points suivants : \n\n\n\nLes nouveautés sur MagicINFOLes nouveautés sur les modules MagicINFOLes nouveautés sur nos produits B2BDes informations sur certains changements chez SamsungUne petite activité pratique sur MagicINFOUne success story en Suisse\n\n\n\nLe nombre de participants à cet Update Event étant limité\, nous vous invitons à vous inscrire au plus vite pour vous garantir une place. La participation à cet Update Event est gratuite. \n\n\n\nPour rappel\, l’accès à cet Update Event est uniquement réservé aux personnes certifiées MagicINFO. \n\n\n\nLe lien de participation vous sera envoyé par email 24 heures avant le début de l’événement. \n\n\n\nNous nous réjouissons de pouvoir vous accueillir lors de cet événement et restons volontiers à disposition pour tout complément d’information. \n\n\n\nL’équipe Presales Samsung Electronics Switzerland GmbH \n\n\n\n\n\n\n\n\n\n\n\n\n\n\n\n\n\n\n\nInscription : À partir du 01 avril 2021 sur cette page.
URL:https://sesgb2b.ch/portal/magicinfo-update-event-21-01-online-fr/
LOCATION:Online\, Online\, Switzerland
CATEGORIES:Update Events FR
ORGANIZER;CN="SESG PreSales (FR)":MAILTO:w.chatelain@partner.samsung.com
END:VEVENT
BEGIN:VEVENT
DTSTART;TZID=Europe/Zurich:20210616T090000
DTEND;TZID=Europe/Zurich:20210616T110000
DTSTAMP:20260423T173811
CREATED:20210325T101826Z
LAST-MODIFIED:20210415T124657Z
UID:10000033-1623834000-1623841200@sesgb2b.ch
SUMMARY:MagicINFO Update Event 21/01 - Online DE
DESCRIPTION:Liebe Partner\, \n\n\n\nWir freuen uns sehr\, Sie zum nächsten MagicINFO Update Event einzuladen\, welches wegen der aktuelle Lage\, Online stattfinden wird. \n\n\n\nMit diesem Update-Event können Sie Ihre MagicINFO-Zertifizierung für einen Zeitraum von 18 Monaten erneuern. \n\n\n\nSollten Sie noch nicht zertifiziert sein\, bitten wir Sie\, sich mit Ihrem Samsung Key Account Manager in Verbindung zu setzen\, damit er Sie über die nächsten Zertifizierungstermine informieren kann. \n\n\n\nWährend dieses Update-Events werden wir Ihnen Folgendes vorstellen: \n\n\n\n– Was ist neu in MagicINFO– Was ist neu in den MagicINFO-Modulen– Was ist neu in unseren B2B-Produkten– Informationen über einige Änderungen bei Samsung– Eine kleine praktische Aktivität auf MagicINFO– Eine Erfolgsgeschichte in der Schweiz\n\n\n\nDa die Teilnehmerzahl für diese Update-Veranstaltung begrenzt ist\, bitten wir Sie\, sich so schnell wie möglich anzumelden\, um einen Platz zu garantieren. Die Teilnahme an dieser Update-Veranstaltung ist kostenlos. \n\n\n\nZur Erinnerung: Die Anmeldung an dieses Update-Event ist nur für MagicINFO-Zertifizierte Personen möglich. \n\n\n\nDen Teilnahmelink wird Ihnen 24 Stunden vor der Veranstaltung per Email zugestellt.  \n\n\n\nWir freuen uns\, Sie auf dieser Veranstaltung begrüßen zu dürfen und stehen Ihnen für weitere Informationen gerne zur Verfügung. \n\n\n\n\n\n\n\n\n\nAnmeldung: ab 01. April 2021 auf dieser Seite.
URL:https://sesgb2b.ch/portal/magicinfo-update-event-21-01-online-de/
LOCATION:Online\, Online\, Switzerland
CATEGORIES:Update Events DE
ATTACH;FMTTYPE=image/jpeg:https://sesgb2b.ch/wp-content/uploads/2021/03/Isometric_business_concept_e-learning_for_second_higher_education__self-study__advanced_training._Great_concept_for_a_Landing_page-scaled.jpg
END:VEVENT
END:VCALENDAR