BEGIN:VCALENDAR
VERSION:2.0
PRODID:-//SESG B2B PreSales - ECPv6.15.20//NONSGML v1.0//EN
CALSCALE:GREGORIAN
METHOD:PUBLISH
X-ORIGINAL-URL:https://sesgb2b.ch
X-WR-CALDESC:Events for SESG B2B PreSales
REFRESH-INTERVAL;VALUE=DURATION:PT1H
X-Robots-Tag:noindex
X-PUBLISHED-TTL:PT1H
BEGIN:VTIMEZONE
TZID:Europe/Zurich
BEGIN:DAYLIGHT
TZOFFSETFROM:+0100
TZOFFSETTO:+0200
TZNAME:CEST
DTSTART:20200329T010000
END:DAYLIGHT
BEGIN:STANDARD
TZOFFSETFROM:+0200
TZOFFSETTO:+0100
TZNAME:CET
DTSTART:20201025T010000
END:STANDARD
BEGIN:DAYLIGHT
TZOFFSETFROM:+0100
TZOFFSETTO:+0200
TZNAME:CEST
DTSTART:20210328T010000
END:DAYLIGHT
BEGIN:STANDARD
TZOFFSETFROM:+0200
TZOFFSETTO:+0100
TZNAME:CET
DTSTART:20211031T010000
END:STANDARD
BEGIN:DAYLIGHT
TZOFFSETFROM:+0100
TZOFFSETTO:+0200
TZNAME:CEST
DTSTART:20220327T010000
END:DAYLIGHT
BEGIN:STANDARD
TZOFFSETFROM:+0200
TZOFFSETTO:+0100
TZNAME:CET
DTSTART:20221030T010000
END:STANDARD
BEGIN:DAYLIGHT
TZOFFSETFROM:+0100
TZOFFSETTO:+0200
TZNAME:CEST
DTSTART:20230326T010000
END:DAYLIGHT
BEGIN:STANDARD
TZOFFSETFROM:+0200
TZOFFSETTO:+0100
TZNAME:CET
DTSTART:20231029T010000
END:STANDARD
BEGIN:DAYLIGHT
TZOFFSETFROM:+0100
TZOFFSETTO:+0200
TZNAME:CEST
DTSTART:20240331T010000
END:DAYLIGHT
BEGIN:STANDARD
TZOFFSETFROM:+0200
TZOFFSETTO:+0100
TZNAME:CET
DTSTART:20241027T010000
END:STANDARD
BEGIN:DAYLIGHT
TZOFFSETFROM:+0100
TZOFFSETTO:+0200
TZNAME:CEST
DTSTART:20250330T010000
END:DAYLIGHT
BEGIN:STANDARD
TZOFFSETFROM:+0200
TZOFFSETTO:+0100
TZNAME:CET
DTSTART:20251026T010000
END:STANDARD
BEGIN:DAYLIGHT
TZOFFSETFROM:+0100
TZOFFSETTO:+0200
TZNAME:CEST
DTSTART:20260329T010000
END:DAYLIGHT
BEGIN:STANDARD
TZOFFSETFROM:+0200
TZOFFSETTO:+0100
TZNAME:CET
DTSTART:20261025T010000
END:STANDARD
BEGIN:DAYLIGHT
TZOFFSETFROM:+0100
TZOFFSETTO:+0200
TZNAME:CEST
DTSTART:20270328T010000
END:DAYLIGHT
BEGIN:STANDARD
TZOFFSETFROM:+0200
TZOFFSETTO:+0100
TZNAME:CET
DTSTART:20271031T010000
END:STANDARD
END:VTIMEZONE
BEGIN:VEVENT
DTSTART;TZID=Europe/Zurich:20260225T100000
DTEND;TZID=Europe/Zurich:20260225T120000
DTSTAMP:20260423T161516
CREATED:20260115T221157Z
LAST-MODIFIED:20260115T221546Z
UID:10000283-1772013600-1772020800@sesgb2b.ch
SUMMARY:LYNK Cloud Training - FR - 02.2026
DESCRIPTION:Formation d’introduction à LYNK Cloud \n\n\n\nCette introduction technique vous offre une immersion dans l’univers des solutions Hospitality Samsung (HTV). \n\n\n\nEn plus d’une vue d’ensemble du matériel actuel\, vous recevrez des informations approfondies sur les fonctionnalités de la solution Samsung HTV LYNK Cloud. \n\n\n\nChaque participant pourra bénéficier d’une licence de test gratuite afin de pouvoir mettre en place son propre environnement de test. \n\n\n\nÀ l’issue de la formation et après la mise en place d’un lab\, vous serez officiellement certifié Samsung LYNK Cloud et autorisé à utiliser cette appellation à des fins marketing.Seuls les partenaires LYNK Cloud certifiés sont habilités à vendre LYNK Cloud en tant que produit et service. \n\n\n\nVous recevrez par email un lien Microsoft Teams quelques jours avant le début de la formation.
URL:https://sesgb2b.ch/portal/lynk-cloud-training-fr-02-2026/
LOCATION:Online\, Online\, Switzerland
CATEGORIES:Training FR
ATTACH;FMTTYPE=image/jpeg:https://sesgb2b.ch/wp-content/uploads/2024/12/Capture.jpg
ORGANIZER;CN="SESG PreSales (FR)":MAILTO:w.chatelain@partner.samsung.com
END:VEVENT
BEGIN:VEVENT
DTSTART;TZID=Europe/Zurich:20260225T100000
DTEND;TZID=Europe/Zurich:20260225T120000
DTSTAMP:20260423T161516
CREATED:20251217T080605Z
LAST-MODIFIED:20260219T191420Z
UID:10000276-1772013600-1772020800@sesgb2b.ch
SUMMARY:LYNK Cloud Training 02.2026
DESCRIPTION:LYNK Cloud Introduction Training \n\n\n\nDieses technische Training gibt euch Einblicke in die Samsung HTV Welt. \n\n\n\nNeben einem Überblick über aktuelle Hardware erhaltet ihr vertiefte Informationen über die Funktionalitäten der Samsung HTV Lösung LYNK Cloud. \n\n\n\nMit dem Training erhält jeder Teilnehmer eine gratis Test Lizenz\, damit ein eigenes Lab aufgesetzt werden kann. \n\n\n\nNach dem Abschluss des Trainings und mit dem Aufsetzen eines eigenen Labs im Selbststudium sind Sie offiziell Samsung LYNK Cloud zertifiziert und dürfen diese Bezeichnung für Marketingzwecke verwenden. Nur zertifizierte LYNK Cloud Partner dürfen LYNK Cloud als Produkt und Dienstleistung vertreiben.
URL:https://sesgb2b.ch/portal/lynk-cloud-training-02-2026/
LOCATION:Online\, Online\, Switzerland
CATEGORIES:Training DE
ATTACH;FMTTYPE=image/jpeg:https://sesgb2b.ch/wp-content/uploads/2024/12/Capture.jpg
ORGANIZER;CN="SESG PreSales (DE)":MAILTO:t.beck@partner.samsung.com
END:VEVENT
BEGIN:VEVENT
DTSTART;TZID=Europe/Zurich:20251112T100000
DTEND;TZID=Europe/Zurich:20251112T120000
DTSTAMP:20260423T161516
CREATED:20241211T084200Z
LAST-MODIFIED:20251110T072255Z
UID:10000244-1762941600-1762948800@sesgb2b.ch
SUMMARY:LYNK Cloud Training 11.2025
DESCRIPTION:LYNK Cloud Introduction Training \n\n\n\nDieses technische Training gibt euch Einblicke in die Samsung HTV Welt. \n\n\n\nNeben einem Überblick über aktuelle Hardware erhaltet ihr vertiefte Informationen über die Funktionalitäten der Samsung HTV Lösung LYNK Cloud. \n\n\n\nMit dem Training erhält jeder Teilnehmer eine gratis Test Lizenz\, damit ein eigenes Lab aufgesetzt werden kann. \n\n\n\nNach dem Abschluss des Trainings und mit dem Aufsetzen eines eigenen Labs im Selbststudium sind Sie offiziell Samsung LYNK Cloud zertifiziert und dürfen diese Bezeichnung für Marketingzwecke verwenden. Nur zertifizierte LYNK Cloud Partner dürfen LYNK Cloud als Produkt und Dienstleistung vertreiben. \n\n\n\nAnmeldung möglich ab 12.09.2025
URL:https://sesgb2b.ch/portal/lynk-cloud-training-11-2025/
LOCATION:Online\, Online\, Switzerland
CATEGORIES:Training DE
ATTACH;FMTTYPE=image/jpeg:https://sesgb2b.ch/wp-content/uploads/2024/12/Capture.jpg
ORGANIZER;CN="SESG PreSales (DE)":MAILTO:t.beck@partner.samsung.com
END:VEVENT
BEGIN:VEVENT
DTSTART;TZID=Europe/Zurich:20250903T100000
DTEND;TZID=Europe/Zurich:20250903T120000
DTSTAMP:20260423T161516
CREATED:20241211T084029Z
LAST-MODIFIED:20250902T090644Z
UID:10000243-1756893600-1756900800@sesgb2b.ch
SUMMARY:LYNK Cloud Training 09.2025
DESCRIPTION:LYNK Cloud Introduction Training \n\n\n\nDieses technische Training gibt euch Einblicke in die Samsung HTV Welt. \n\n\n\nNeben einem Überblick über aktuelle Hardware erhaltet ihr vertiefte Informationen über die Funktionalitäten der Samsung HTV Lösung LYNK Cloud. \n\n\n\nMit dem Training erhält jeder Teilnehmer eine gratis Test Lizenz\, damit ein eigenes Lab aufgesetzt werden kann. \n\n\n\nNach dem Abschluss des Trainings und mit dem Aufsetzen eines eigenen Labs im Selbststudium sind Sie offiziell Samsung LYNK Cloud zertifiziert und dürfen diese Bezeichnung für Marketingzwecke verwenden. Nur zertifizierte LYNK Cloud Partner dürfen LYNK Cloud als Produkt und Dienstleistung vertreiben. \n\n\n\nAnmeldung möglich ab 03.06.2025
URL:https://sesgb2b.ch/portal/lynk-cloud-training-09-2025/
LOCATION:Online\, Online\, Switzerland
CATEGORIES:Training DE
ATTACH;FMTTYPE=image/jpeg:https://sesgb2b.ch/wp-content/uploads/2024/12/Capture.jpg
ORGANIZER;CN="SESG PreSales (DE)":MAILTO:t.beck@partner.samsung.com
END:VEVENT
BEGIN:VEVENT
DTSTART;TZID=Europe/Zurich:20250618T100000
DTEND;TZID=Europe/Zurich:20250618T120000
DTSTAMP:20260423T161516
CREATED:20241211T083856Z
LAST-MODIFIED:20250613T114812Z
UID:10000242-1750240800-1750248000@sesgb2b.ch
SUMMARY:LYNK Cloud Training 06.2025
DESCRIPTION:LYNK Cloud Introduction Training \n\n\n\nDieses technische Training gibt euch Einblicke in die Samsung HTV Welt. \n\n\n\nNeben einem Überblick über aktuelle Hardware erhaltet ihr vertiefte Informationen über die Funktionalitäten der Samsung HTV Lösung LYNK Cloud. \n\n\n\nMit dem Training erhält jeder Teilnehmer eine gratis Test Lizenz\, damit ein eigenes Lab aufgesetzt werden kann. \n\n\n\nNach dem Abschluss des Trainings und mit dem Aufsetzen eines eigenen Labs im Selbststudium sind Sie offiziell Samsung LYNK Cloud zertifiziert und dürfen diese Bezeichnung für Marketingzwecke verwenden. Nur zertifizierte LYNK Cloud Partner dürfen LYNK Cloud als Produkt und Dienstleistung vertreiben. \n\n\n\nAnmeldung möglich ab 18.03.2025
URL:https://sesgb2b.ch/portal/lynk-cloud-training-06-2025/
LOCATION:Online\, Online\, Switzerland
CATEGORIES:Training DE
ATTACH;FMTTYPE=image/jpeg:https://sesgb2b.ch/wp-content/uploads/2024/12/Capture.jpg
ORGANIZER;CN="SESG PreSales (DE)":MAILTO:t.beck@partner.samsung.com
END:VEVENT
BEGIN:VEVENT
DTSTART;TZID=Europe/Zurich:20250613T100000
DTEND;TZID=Europe/Zurich:20250613T120000
DTSTAMP:20260423T161516
CREATED:20250430T065846Z
LAST-MODIFIED:20250430T120645Z
UID:10000268-1749808800-1749816000@sesgb2b.ch
SUMMARY:LYNK Cloud Training 06.2025 - ITA
DESCRIPTION:LYNK Cloud Introduction Training \n\n\n\nQuesto corso di formazione tecnica vi offre una panoramica sul mondo di Samsung HTV. \n\n\n\nOltre a una panoramica sull’hardware attuale\, riceverete informazioni approfondite sulle funzionalità della soluzione Samsung HTV LYNK Cloud. \n\n\n\nOgni partecipante riceverà una licenza di prova gratuita durante la formazione\, in modo da poter allestire il proprio laboratorio. \n\n\n\nDopo aver completato la formazione e aver creato il proprio laboratorio di autoapprendimento\, si è ufficialmente certificati Samsung LYNK Cloud e si può utilizzare questa denominazione per scopi di marketing. Solo i partner certificati LYNK Cloud sono autorizzati a vendere LYNK Cloud come prodotto e servizio.
URL:https://sesgb2b.ch/portal/lynk-cloud-training-06-2025-ita/
LOCATION:Online\, Online\, Switzerland
ATTACH;FMTTYPE=image/jpeg:https://sesgb2b.ch/wp-content/uploads/2024/12/Capture.jpg
ORGANIZER;CN="SESG PreSales (DE)":MAILTO:t.beck@partner.samsung.com
END:VEVENT
BEGIN:VEVENT
DTSTART;TZID=Europe/Zurich:20250416T100000
DTEND;TZID=Europe/Zurich:20250416T120000
DTSTAMP:20260423T161516
CREATED:20241211T083656Z
LAST-MODIFIED:20241211T083758Z
UID:10000241-1744797600-1744804800@sesgb2b.ch
SUMMARY:LYNK Cloud Training 04.2025
DESCRIPTION:LYNK Cloud Introduction Training \n\n\n\nDieses technische Training gibt euch Einblicke in die Samsung HTV Welt. \n\n\n\nNeben einem Überblick über aktuelle Hardware erhaltet ihr vertiefte Informationen über die Funktionalitäten der Samsung HTV Lösung LYNK Cloud. \n\n\n\nMit dem Training erhält jeder Teilnehmer eine gratis Test Lizenz\, damit ein eigenes Lab aufgesetzt werden kann. \n\n\n\nNach dem Abschluss des Trainings und mit dem Aufsetzen eines eigenen Labs im Selbststudium sind Sie offiziell Samsung LYNK Cloud zertifiziert und dürfen diese Bezeichnung für Marketingzwecke verwenden. Nur zertifizierte LYNK Cloud Partner dürfen LYNK Cloud als Produkt und Dienstleistung vertreiben. \n\n\n\nAnmeldung möglich ab 16.01.2025
URL:https://sesgb2b.ch/portal/lynk-cloud-training-04-2025/
LOCATION:Online\, Online\, Switzerland
CATEGORIES:Training DE
ATTACH;FMTTYPE=image/jpeg:https://sesgb2b.ch/wp-content/uploads/2024/12/Capture.jpg
ORGANIZER;CN="SESG PreSales (DE)":MAILTO:t.beck@partner.samsung.com
END:VEVENT
BEGIN:VEVENT
DTSTART;TZID=Europe/Zurich:20230628T130000
DTEND;TZID=Europe/Zurich:20230628T143000
DTSTAMP:20260423T161516
CREATED:20230215T083913Z
LAST-MODIFIED:20230428T061559Z
UID:10000069-1687957200-1687962600@sesgb2b.ch
SUMMARY:MagicINFO Update Event 23/01 DE Online
DESCRIPTION:Liebe Partner\, \n\n\n\nWir freuen uns sehr\, Sie zum nächsten MagicINFO Update Event einzuladen\, welches wegen der aktuelle Lage\, Online stattfinden wird. \n\n\n\nMit diesem Update-Event können Sie Ihre MagicINFO-Zertifizierung für einen Zeitraum von 18 Monaten erneuern. \n\n\n\nSollten Sie noch nicht zertifiziert sein\, bitten wir Sie\, sich mit Ihrem Samsung Key Account Manager in Verbindung zu setzen\, damit er Sie über die nächsten Zertifizierungstermine informieren kann. \n\n\n\nWährend dieses Update-Events werden wir Ihnen Folgendes vorstellen: \n\n\n\n– Was ist neu in MagicINFO– Was ist neu in den MagicINFO-Modulen– Was ist neu in unseren B2B-Produkten– Informationen über einige Änderungen bei Samsung– Eine kleine praktische Aktivität auf MagicINFO– Eine Erfolgsgeschichte in der Schweiz\n\n\n\nDa die Teilnehmerzahl für diese Update-Veranstaltung begrenzt ist\, bitten wir Sie\, sich so schnell wie möglich anzumelden\, um einen Platz zu garantieren. Die Teilnahme an dieser Update-Veranstaltung ist kostenlos. \n\n\n\nZur Erinnerung: Die Anmeldung an dieses Update-Event ist nur für MagicINFO-Zertifizierte Personen möglich. \n\n\n\nDen Teilnahmelink wird Ihnen 24 Stunden vor der Veranstaltung per Email zugestellt.  \n\n\n\nWir freuen uns\, Sie auf dieser Veranstaltung begrüßen zu dürfen und stehen Ihnen für weitere Informationen gerne zur Verfügung.
URL:https://sesgb2b.ch/portal/magicinfo-update-event-23-01-de-online/
LOCATION:Online\, Online\, Switzerland
CATEGORIES:Update Events DE
END:VEVENT
BEGIN:VEVENT
DTSTART;TZID=Europe/Zurich:20230628T103000
DTEND;TZID=Europe/Zurich:20230628T120000
DTSTAMP:20260423T161516
CREATED:20230313T151534Z
LAST-MODIFIED:20230622T121417Z
UID:10000071-1687948200-1687953600@sesgb2b.ch
SUMMARY:MagicINFO Update Event 23/01 - Online FR
DESCRIPTION:Chers partenaires\, \n\n\n\nNous sommes très heureux de vous inviter au prochain Update Event MagicINFO qui se déroulera en ligne. \n\n\n\nCet Update Event vous permettra de renouveler votre certification MagicINFO pour une durée de 18 mois. \n\n\n\nSi vous n’êtes pas encore certifié\, nous vous invitons à contacter votre Key Account Manager Samsung afin qu’il vous informe des prochaines dates de certification. \n\n\n\nDurant cet Update Event\, nous vous présenterons les points suivants : \n\n\n\nLes nouveautés sur nos solutions SignageLes nouveautés sur nos produits B2BDes informations sur certains changements chez SamsungUne petite activité pratique sur MagicINFOUne success story en Suisse\n\n\n\nLe nombre de participants à cet Update Event étant limité\, nous vous invitons à vous inscrire au plus vite pour vous garantir une place. La participation à cet Update Event est gratuite. \n\n\n\nPour rappel\, l’accès à cet Update Event est uniquement réservé aux personnes certifiées MagicINFO. \n\n\n\nLe lien de participation vous sera envoyé par email 24 heures avant le début de la session. \n\n\n\nNous restons volontiers à disposition pour tout complément d’information. \n\n\n\nL’équipe Presales Samsung Electronics Switzerland GmbH \n\n\n\n\n\n\n\nInscription : À partir du 26 avril 2023 sur cette page.
URL:https://sesgb2b.ch/portal/magicinfo-update-event-23-01-online-fr/
LOCATION:Online\, Online\, Switzerland
CATEGORIES:Update Events FR
ORGANIZER;CN="SESG PreSales (FR)":MAILTO:w.chatelain@partner.samsung.com
END:VEVENT
BEGIN:VEVENT
DTSTART;TZID=Europe/Zurich:20220406T140000
DTEND;TZID=Europe/Zurich:20220406T160000
DTSTAMP:20260423T161516
CREATED:20220104T071435Z
LAST-MODIFIED:20220104T075741Z
UID:10000049-1649253600-1649260800@sesgb2b.ch
SUMMARY:MagicINFO Update Event 22/01 DE Online
DESCRIPTION:Liebe Partner\, \n\n\n\nWir freuen uns sehr\, Sie zum nächsten MagicINFO Update Event einzuladen\, welches wegen der aktuelle Lage\, Online stattfinden wird. \n\n\n\nMit diesem Update-Event können Sie Ihre MagicINFO-Zertifizierung für einen Zeitraum von 18 Monaten erneuern. \n\n\n\nSollten Sie noch nicht zertifiziert sein\, bitten wir Sie\, sich mit Ihrem Samsung Key Account Manager in Verbindung zu setzen\, damit er Sie über die nächsten Zertifizierungstermine informieren kann. \n\n\n\nWährend dieses Update-Events werden wir Ihnen Folgendes vorstellen: \n\n\n\n– Was ist neu in MagicINFO– Was ist neu in den MagicINFO-Modulen– Was ist neu in unseren B2B-Produkten– Informationen über einige Änderungen bei Samsung– Eine kleine praktische Aktivität auf MagicINFO– Eine Erfolgsgeschichte in der Schweiz\n\n\n\nDa die Teilnehmerzahl für diese Update-Veranstaltung begrenzt ist\, bitten wir Sie\, sich so schnell wie möglich anzumelden\, um einen Platz zu garantieren. Die Teilnahme an dieser Update-Veranstaltung ist kostenlos. \n\n\n\nZur Erinnerung: Die Anmeldung an dieses Update-Event ist nur für MagicINFO-Zertifizierte Personen möglich. \n\n\n\nDen Teilnahmelink wird Ihnen 24 Stunden vor der Veranstaltung per Email zugestellt.  \n\n\n\nWir freuen uns\, Sie auf dieser Veranstaltung begrüßen zu dürfen und stehen Ihnen für weitere Informationen gerne zur Verfügung.
URL:https://sesgb2b.ch/portal/magicinfo-update-event-21-02-de-online-2/
LOCATION:Online\, Online\, Switzerland
CATEGORIES:Update Events DE
END:VEVENT
BEGIN:VEVENT
DTSTART;TZID=Europe/Zurich:20220406T090000
DTEND;TZID=Europe/Zurich:20220406T110000
DTSTAMP:20260423T161516
CREATED:20220126T165407Z
LAST-MODIFIED:20221214T094852Z
UID:10000051-1649235600-1649242800@sesgb2b.ch
SUMMARY:MagicINFO Update Event 22/01 - Online FR
DESCRIPTION:Chers partenaires\, \n\n\n\nNous sommes très heureux de vous inviter au prochain Update Event MagicINFO qui se déroulera en ligne au vu de la situation sanitaire actuelle. \n\n\n\nCet Update Event vous permettra de renouveler votre certification MagicINFO pour une durée de 18 mois. \n\n\n\nSi vous n’êtes pas encore certifié\, nous vous invitons à contacter votre Key Account Manager Samsung afin qu’il vous informe des prochaines dates de certification. \n\n\n\nDurant cet Update Event\, nous vous présenterons les points suivants : \n\n\n\nLes nouveautés sur MagicINFOLes nouveautés sur les modules MagicINFOLes nouveautés sur nos produits B2BDes informations sur certains changements chez SamsungUne petite activité pratique sur MagicINFOUne success story en Suisse\n\n\n\nLe nombre de participants à cet Update Event étant limité\, nous vous invitons à vous inscrire au plus vite pour vous garantir une place. La participation à cet Update Event est gratuite. \n\n\n\nPour rappel\, l’accès à cet Update Event est uniquement réservé aux personnes certifiées MagicINFO. \n\n\n\nLe lien de participation vous sera envoyé par email 24 heures avant le début de l’événement. \n\n\n\nNous nous réjouissons de pouvoir vous accueillir lors de cet événement et restons volontiers à disposition pour tout complément d’information. \n\n\n\nL’équipe Presales Samsung Electronics Switzerland GmbH \n\n\n\n\n\n\n\nInscription : À partir du 27 janvier 2022 sur cette page.
URL:https://sesgb2b.ch/portal/magicinfo-update-event-22-01-online-fr/
LOCATION:Online\, Online\, Switzerland
CATEGORIES:Update Events FR
ORGANIZER;CN="SESG PreSales (FR)":MAILTO:w.chatelain@partner.samsung.com
END:VEVENT
BEGIN:VEVENT
DTSTART;TZID=Europe/Zurich:20211110T140000
DTEND;TZID=Europe/Zurich:20211110T160000
DTSTAMP:20260423T161516
CREATED:20210422T093926Z
LAST-MODIFIED:20210422T093930Z
UID:10000037-1636552800-1636560000@sesgb2b.ch
SUMMARY:MagicINFO Update Event 21/02 DE Online
DESCRIPTION:Liebe Partner\, \n\n\n\nWir freuen uns sehr\, Sie zum nächsten MagicINFO Update Event einzuladen\, welches wegen der aktuelle Lage\, Online stattfinden wird. \n\n\n\nMit diesem Update-Event können Sie Ihre MagicINFO-Zertifizierung für einen Zeitraum von 18 Monaten erneuern. \n\n\n\nSollten Sie noch nicht zertifiziert sein\, bitten wir Sie\, sich mit Ihrem Samsung Key Account Manager in Verbindung zu setzen\, damit er Sie über die nächsten Zertifizierungstermine informieren kann. \n\n\n\nWährend dieses Update-Events werden wir Ihnen Folgendes vorstellen: \n\n\n\n– Was ist neu in MagicINFO– Was ist neu in den MagicINFO-Modulen– Was ist neu in unseren B2B-Produkten– Informationen über einige Änderungen bei Samsung– Eine kleine praktische Aktivität auf MagicINFO– Eine Erfolgsgeschichte in der Schweiz\n\n\n\nDa die Teilnehmerzahl für diese Update-Veranstaltung begrenzt ist\, bitten wir Sie\, sich so schnell wie möglich anzumelden\, um einen Platz zu garantieren. Die Teilnahme an dieser Update-Veranstaltung ist kostenlos. \n\n\n\nZur Erinnerung: Die Anmeldung an dieses Update-Event ist nur für MagicINFO-Zertifizierte Personen möglich. \n\n\n\nDen Teilnahmelink wird Ihnen 24 Stunden vor der Veranstaltung per Email zugestellt.  \n\n\n\nWir freuen uns\, Sie auf dieser Veranstaltung begrüßen zu dürfen und stehen Ihnen für weitere Informationen gerne zur Verfügung.
URL:https://sesgb2b.ch/portal/magicinfo-update-event-21-02-de-online/
LOCATION:Online\, Online\, Switzerland
CATEGORIES:Update Events DE
END:VEVENT
BEGIN:VEVENT
DTSTART;TZID=Europe/Zurich:20211110T090000
DTEND;TZID=Europe/Zurich:20211110T110000
DTSTAMP:20260423T161516
CREATED:20210422T141423Z
LAST-MODIFIED:20221214T094836Z
UID:10000038-1636534800-1636542000@sesgb2b.ch
SUMMARY:MagicINFO Update Event 21/02 - Online FR
DESCRIPTION:Chers partenaires\, \n\n\n\nNous sommes très heureux de vous inviter au prochain Update Event MagicINFO qui se déroulera en ligne au vu de la situation sanitaire actuelle. \n\n\n\nCet Update Event vous permettra de renouveler votre certification MagicINFO pour une durée de 18 mois. \n\n\n\nSi vous n’êtes pas encore certifié\, nous vous invitons à contacter votre Key Account Manager Samsung afin qu’il vous informe des prochaines dates de certification. \n\n\n\nDurant cet Update Event\, nous vous présenterons les points suivants : \n\n\n\nLes nouveautés sur MagicINFOLes nouveautés sur les modules MagicINFOLes nouveautés sur nos produits B2BDes informations sur certains changements chez SamsungUne petite activité pratique sur MagicINFOUne success story en Suisse\n\n\n\nLe nombre de participants à cet Update Event étant limité\, nous vous invitons à vous inscrire au plus vite pour vous garantir une place. La participation à cet Update Event est gratuite. \n\n\n\nPour rappel\, l’accès à cet Update Event est uniquement réservé aux personnes certifiées MagicINFO. \n\n\n\nLe lien de participation vous sera envoyé par email 24 heures avant le début de l’événement. \n\n\n\nNous nous réjouissons de pouvoir vous accueillir lors de cet événement et restons volontiers à disposition pour tout complément d’information. \n\n\n\nL’équipe Presales Samsung Electronics Switzerland GmbH \n\n\n\n\n\n\n\nInscription : À partir du 01 avril 2021 sur cette page.
URL:https://sesgb2b.ch/portal/magicinfo-update-event-21-02-online-fr/
LOCATION:Online\, Online\, Switzerland
CATEGORIES:Update Events FR
ORGANIZER;CN="SESG PreSales (FR)":MAILTO:w.chatelain@partner.samsung.com
END:VEVENT
BEGIN:VEVENT
DTSTART;TZID=Europe/Zurich:20210708T090000
DTEND;TZID=Europe/Zurich:20210708T110000
DTSTAMP:20260423T161516
CREATED:20210625T114253Z
LAST-MODIFIED:20210625T114842Z
UID:10000041-1625734800-1625742000@sesgb2b.ch
SUMMARY:MagicINFO Update-Event - Italiano - 07.2021
DESCRIPTION:Cari Partner MagicINFO \n\n\n\nSiamo molto lieti di invitarvi al prossimo evento di aggiornamento di MagicINFO\, che avrà luogo online a causa della situazione attuale.Con questo evento di aggiornamento puoi rinnovare la tua certificazione MagicINFO per un periodo di 18 mesi. \n\n\n\nSe non siete ancora certificati\, contattate il vostro Samsung Key Account Manager in modo che possa informarvi sulle prossime date di certificazione. \n\n\n\nDurante questo evento di aggiornamento\, vi presenteremo: \n\n\n\nCosa c’è di nuovo in MagicINFOCosa c’è di nuovo nei moduli MagicINFOCosa c’è di nuovo nei nostri prodotti B2BInformazioni su alcuni cambiamenti in Samsung\n\n\n\nPoiché il numero di partecipanti a questo evento di aggiornamento è limitato\, si prega di registrarsi il prima possibile per garantire un posto. La partecipazione a questo evento di aggiornamento è gratuita. \n\n\n\nImportante:  la registrazione per questo evento di aggiornamento è aperta solo a persone certificate MagicINFO. \n\n\n\nIl link di partecipazione ti sarà inviato per email 24 ore prima dell’evento. \n\n\n\nNon vediamo l’ora di darvi il benvenuto a questo evento.
URL:https://sesgb2b.ch/portal/magicinfo-update-event-italiano-07-2021/
LOCATION:Online\, Online\, Switzerland
CATEGORIES:Update Events DE
ATTACH;FMTTYPE=image/jpeg:https://sesgb2b.ch/wp-content/uploads/2021/03/Isometric_business_concept_e-learning_for_second_higher_education__self-study__advanced_training._Great_concept_for_a_Landing_page-scaled.jpg
ORGANIZER;CN="SESG PreSales (DE)":MAILTO:t.beck@partner.samsung.com
END:VEVENT
BEGIN:VEVENT
DTSTART;TZID=Europe/Zurich:20210616T130000
DTEND;TZID=Europe/Zurich:20210616T150000
DTSTAMP:20260423T161516
CREATED:20210413T125411Z
LAST-MODIFIED:20221214T094801Z
UID:10000034-1623848400-1623855600@sesgb2b.ch
SUMMARY:MagicINFO Update Event 21/01- Online FR
DESCRIPTION:Chers partenaires\, \n\n\n\nNous sommes très heureux de vous inviter au prochain Update Event MagicINFO qui se déroulera en ligne au vu de la situation sanitaire actuelle. \n\n\n\nCet Update Event vous permettra de renouveler votre certification MagicINFO pour une durée de 18 mois. \n\n\n\nSi vous n’êtes pas encore certifié\, nous vous invitons à contacter votre Key Account Manager Samsung afin qu’il vous informe des prochaines dates de certification. \n\n\n\nDurant cet Update Event\, nous vous présenterons les points suivants : \n\n\n\nLes nouveautés sur MagicINFOLes nouveautés sur les modules MagicINFOLes nouveautés sur nos produits B2BDes informations sur certains changements chez SamsungUne petite activité pratique sur MagicINFOUne success story en Suisse\n\n\n\nLe nombre de participants à cet Update Event étant limité\, nous vous invitons à vous inscrire au plus vite pour vous garantir une place. La participation à cet Update Event est gratuite. \n\n\n\nPour rappel\, l’accès à cet Update Event est uniquement réservé aux personnes certifiées MagicINFO. \n\n\n\nLe lien de participation vous sera envoyé par email 24 heures avant le début de l’événement. \n\n\n\nNous nous réjouissons de pouvoir vous accueillir lors de cet événement et restons volontiers à disposition pour tout complément d’information. \n\n\n\nL’équipe Presales Samsung Electronics Switzerland GmbH \n\n\n\n\n\n\n\n\n\n\n\n\n\n\n\n\n\n\n\nInscription : À partir du 01 avril 2021 sur cette page.
URL:https://sesgb2b.ch/portal/magicinfo-update-event-21-01-online-fr/
LOCATION:Online\, Online\, Switzerland
CATEGORIES:Update Events FR
ORGANIZER;CN="SESG PreSales (FR)":MAILTO:w.chatelain@partner.samsung.com
END:VEVENT
BEGIN:VEVENT
DTSTART;TZID=Europe/Zurich:20210616T090000
DTEND;TZID=Europe/Zurich:20210616T110000
DTSTAMP:20260423T161516
CREATED:20210325T101826Z
LAST-MODIFIED:20210415T124657Z
UID:10000033-1623834000-1623841200@sesgb2b.ch
SUMMARY:MagicINFO Update Event 21/01 - Online DE
DESCRIPTION:Liebe Partner\, \n\n\n\nWir freuen uns sehr\, Sie zum nächsten MagicINFO Update Event einzuladen\, welches wegen der aktuelle Lage\, Online stattfinden wird. \n\n\n\nMit diesem Update-Event können Sie Ihre MagicINFO-Zertifizierung für einen Zeitraum von 18 Monaten erneuern. \n\n\n\nSollten Sie noch nicht zertifiziert sein\, bitten wir Sie\, sich mit Ihrem Samsung Key Account Manager in Verbindung zu setzen\, damit er Sie über die nächsten Zertifizierungstermine informieren kann. \n\n\n\nWährend dieses Update-Events werden wir Ihnen Folgendes vorstellen: \n\n\n\n– Was ist neu in MagicINFO– Was ist neu in den MagicINFO-Modulen– Was ist neu in unseren B2B-Produkten– Informationen über einige Änderungen bei Samsung– Eine kleine praktische Aktivität auf MagicINFO– Eine Erfolgsgeschichte in der Schweiz\n\n\n\nDa die Teilnehmerzahl für diese Update-Veranstaltung begrenzt ist\, bitten wir Sie\, sich so schnell wie möglich anzumelden\, um einen Platz zu garantieren. Die Teilnahme an dieser Update-Veranstaltung ist kostenlos. \n\n\n\nZur Erinnerung: Die Anmeldung an dieses Update-Event ist nur für MagicINFO-Zertifizierte Personen möglich. \n\n\n\nDen Teilnahmelink wird Ihnen 24 Stunden vor der Veranstaltung per Email zugestellt.  \n\n\n\nWir freuen uns\, Sie auf dieser Veranstaltung begrüßen zu dürfen und stehen Ihnen für weitere Informationen gerne zur Verfügung. \n\n\n\n\n\n\n\n\n\nAnmeldung: ab 01. April 2021 auf dieser Seite.
URL:https://sesgb2b.ch/portal/magicinfo-update-event-21-01-online-de/
LOCATION:Online\, Online\, Switzerland
CATEGORIES:Update Events DE
ATTACH;FMTTYPE=image/jpeg:https://sesgb2b.ch/wp-content/uploads/2021/03/Isometric_business_concept_e-learning_for_second_higher_education__self-study__advanced_training._Great_concept_for_a_Landing_page-scaled.jpg
END:VEVENT
END:VCALENDAR