BEGIN:VCALENDAR
VERSION:2.0
PRODID:-//SESG B2B PreSales - ECPv6.15.20//NONSGML v1.0//EN
CALSCALE:GREGORIAN
METHOD:PUBLISH
X-WR-CALNAME:SESG B2B PreSales
X-ORIGINAL-URL:https://sesgb2b.ch
X-WR-CALDESC:Events for SESG B2B PreSales
REFRESH-INTERVAL;VALUE=DURATION:PT1H
X-Robots-Tag:noindex
X-PUBLISHED-TTL:PT1H
BEGIN:VTIMEZONE
TZID:Europe/Zurich
BEGIN:DAYLIGHT
TZOFFSETFROM:+0100
TZOFFSETTO:+0200
TZNAME:CEST
DTSTART:20240331T010000
END:DAYLIGHT
BEGIN:STANDARD
TZOFFSETFROM:+0200
TZOFFSETTO:+0100
TZNAME:CET
DTSTART:20241027T010000
END:STANDARD
BEGIN:DAYLIGHT
TZOFFSETFROM:+0100
TZOFFSETTO:+0200
TZNAME:CEST
DTSTART:20250330T010000
END:DAYLIGHT
BEGIN:STANDARD
TZOFFSETFROM:+0200
TZOFFSETTO:+0100
TZNAME:CET
DTSTART:20251026T010000
END:STANDARD
BEGIN:DAYLIGHT
TZOFFSETFROM:+0100
TZOFFSETTO:+0200
TZNAME:CEST
DTSTART:20260329T010000
END:DAYLIGHT
BEGIN:STANDARD
TZOFFSETFROM:+0200
TZOFFSETTO:+0100
TZNAME:CET
DTSTART:20261025T010000
END:STANDARD
END:VTIMEZONE
BEGIN:VEVENT
DTSTART;TZID=Europe/Zurich:20250613T083000
DTEND;TZID=Europe/Zurich:20250613T120000
DTSTAMP:20260425T170531
CREATED:20241125T230530Z
LAST-MODIFIED:20250612T121729Z
UID:10000237-1749803400-1749816000@sesgb2b.ch
SUMMARY:VXT Training Lausanne 06.2025
DESCRIPTION:Formation VXT \n\n\n\nCette formation technique vous offre\, pendant une demi-journée\, un aperçu approfondi des fonctionnalités de VXT afin d’apprendre à utiliser le produit et répondre aux besoins en Signage de vos clients.  L’objectif est de pouvoir être capable d’utiliser VXT et accompagner vos clients dans sa mise en place. \n\n\n\nAprès avoir terminé la formation\, vous serez officiellement enregistré en tant que Swiss VXT Expert et pourrez utiliser cette désignation à des fins de marketing. \n\n\n\nEn tant que Swiss VXT Expert\, vous avez en outre un accès direct au support suisse. \n\n\n\nCette formation s’adresse aux techniciens ayant des connaissances préalables en matière de réseau et d’Internet. Le nombre de participants est limité à 6-8 personnes. L’ordre d’inscription est pris en compte. \n\n\n\nCoût: approx. CHF 500.-  Vous recevez les produits suivants : \n\n\n\n\n2x Licence VXT Pro \, Abonnement d’une année\n\n\n\n\n \n\n\n\nCes licences seront utilisées pendant la formation pour créer votre propre organisation VXT. L’organisation reste ensuite votre propriété pour y héberger vos clients ou faire des tests. Après une année\, les licences de la formation seront expirées et devront être renouvellées par vos soins.  \n\n\n\nAprès l’inscription obligatoire\, vous recevrez une facture du distributeur de votre choix. \n\n\n\nInscription possible dès maintenant.
URL:https://sesgb2b.ch/portal/vxt-training-lausanne-06-2025/
LOCATION:Samsung Lausanne\, Avenue Gratta-Paille 1\, Lausanne\, VD\, 1018\, Switzerland
CATEGORIES:Training FR
ATTACH;FMTTYPE=image/png:https://sesgb2b.ch/wp-content/uploads/2024/04/Untitled-2.png
ORGANIZER;CN="SESG PreSales (FR)":MAILTO:w.chatelain@partner.samsung.com
END:VEVENT
BEGIN:VEVENT
DTSTART;TZID=Europe/Zurich:20250613T100000
DTEND;TZID=Europe/Zurich:20250613T120000
DTSTAMP:20260425T170531
CREATED:20250430T065846Z
LAST-MODIFIED:20250430T120645Z
UID:10000268-1749808800-1749816000@sesgb2b.ch
SUMMARY:LYNK Cloud Training 06.2025 - ITA
DESCRIPTION:LYNK Cloud Introduction Training \n\n\n\nQuesto corso di formazione tecnica vi offre una panoramica sul mondo di Samsung HTV. \n\n\n\nOltre a una panoramica sull’hardware attuale\, riceverete informazioni approfondite sulle funzionalità della soluzione Samsung HTV LYNK Cloud. \n\n\n\nOgni partecipante riceverà una licenza di prova gratuita durante la formazione\, in modo da poter allestire il proprio laboratorio. \n\n\n\nDopo aver completato la formazione e aver creato il proprio laboratorio di autoapprendimento\, si è ufficialmente certificati Samsung LYNK Cloud e si può utilizzare questa denominazione per scopi di marketing. Solo i partner certificati LYNK Cloud sono autorizzati a vendere LYNK Cloud come prodotto e servizio.
URL:https://sesgb2b.ch/portal/lynk-cloud-training-06-2025-ita/
LOCATION:Online\, Online\, Switzerland
ATTACH;FMTTYPE=image/jpeg:https://sesgb2b.ch/wp-content/uploads/2024/12/Capture.jpg
ORGANIZER;CN="SESG PreSales (DE)":MAILTO:t.beck@partner.samsung.com
END:VEVENT
BEGIN:VEVENT
DTSTART;TZID=Europe/Zurich:20250618T100000
DTEND;TZID=Europe/Zurich:20250618T120000
DTSTAMP:20260425T170531
CREATED:20241211T083856Z
LAST-MODIFIED:20250613T114812Z
UID:10000242-1750240800-1750248000@sesgb2b.ch
SUMMARY:LYNK Cloud Training 06.2025
DESCRIPTION:LYNK Cloud Introduction Training \n\n\n\nDieses technische Training gibt euch Einblicke in die Samsung HTV Welt. \n\n\n\nNeben einem Überblick über aktuelle Hardware erhaltet ihr vertiefte Informationen über die Funktionalitäten der Samsung HTV Lösung LYNK Cloud. \n\n\n\nMit dem Training erhält jeder Teilnehmer eine gratis Test Lizenz\, damit ein eigenes Lab aufgesetzt werden kann. \n\n\n\nNach dem Abschluss des Trainings und mit dem Aufsetzen eines eigenen Labs im Selbststudium sind Sie offiziell Samsung LYNK Cloud zertifiziert und dürfen diese Bezeichnung für Marketingzwecke verwenden. Nur zertifizierte LYNK Cloud Partner dürfen LYNK Cloud als Produkt und Dienstleistung vertreiben. \n\n\n\nAnmeldung möglich ab 18.03.2025
URL:https://sesgb2b.ch/portal/lynk-cloud-training-06-2025/
LOCATION:Online\, Online\, Switzerland
CATEGORIES:Training DE
ATTACH;FMTTYPE=image/jpeg:https://sesgb2b.ch/wp-content/uploads/2024/12/Capture.jpg
ORGANIZER;CN="SESG PreSales (DE)":MAILTO:t.beck@partner.samsung.com
END:VEVENT
BEGIN:VEVENT
DTSTART;TZID=Europe/Zurich:20250620T090000
DTEND;TZID=Europe/Zurich:20250620T130000
DTSTAMP:20260425T170532
CREATED:20241119T093538Z
LAST-MODIFIED:20250613T120355Z
UID:10000231-1750410000-1750424400@sesgb2b.ch
SUMMARY:VXT Training Zurich 06.2025
DESCRIPTION:VXT Training  \n\n\n\nDieses technische Training bietet euch während einem halben Tag vertiefte Einblicke in die Funktionalitäten von VXT um zu lernen\, wie ihr die Signage Anforderungen eurer Kunden umsetzen könnt. Ziel ist es\, VXT als Produkt und Dienstleistung zu vertreiben.  \n\n\n\nNach dem Abschluss des Trainings sind Sie offiziell als Swiss VXT Expert registriert und dürfen diese Bezeichnung für Marketingzwecke verwenden. \n\n\n\nAls Swiss VXT Expert haben Sie zudem direkten Zugang zum Schweizer Support. \n\n\n\nDieses Training richtet sich an Techniker mit Vorkenntnissen in Netzwerk und Internet. Die Teilnehmerzahl ist auf zehn Personen begrenzt. Es zählt die Reihenfolge der Anmeldung. \n\n\n\nKosten: ca CHF 500.- Sie erhalten folgende Produkte: \n\n\n\n\n1/2 Tag VXT Training am Samsung Standort Zürich\n\n\n\n2x VXT Pro Lizenzen\, 1 Jahr Subscription\n\n\n\n\n \n\n\n\nDiese Lizenzen werden im Training benutzt um eine eigene VXT Organization zu erstellen. Die Organization bleibt danach in eurem Besitzt (erstes Jahr).  \n\n\n\nNach der Verbindlichen Anmeldung\, erhalten Sie eine Rechnung von Ihrem Wahl Distributor.  \n\n\n\nAnmeldung möglich ab 01.05.2025.
URL:https://sesgb2b.ch/portal/vxt-training-zurich-06-2025/
LOCATION:Samsung Zurich\, Giesshübelstrasse 30\, Zürich\, ZH\, 8045\, Switzerland
CATEGORIES:Training DE
ATTACH;FMTTYPE=image/png:https://sesgb2b.ch/wp-content/uploads/2024/04/Untitled-2.png
ORGANIZER;CN="SESG PreSales (DE)":MAILTO:t.beck@partner.samsung.com
END:VEVENT
END:VCALENDAR