BEGIN:VCALENDAR
VERSION:2.0
PRODID:-//SESG B2B PreSales - ECPv6.15.20//NONSGML v1.0//EN
CALSCALE:GREGORIAN
METHOD:PUBLISH
X-WR-CALNAME:SESG B2B PreSales
X-ORIGINAL-URL:https://sesgb2b.ch
X-WR-CALDESC:Events for SESG B2B PreSales
REFRESH-INTERVAL;VALUE=DURATION:PT1H
X-Robots-Tag:noindex
X-PUBLISHED-TTL:PT1H
BEGIN:VTIMEZONE
TZID:Europe/Zurich
BEGIN:DAYLIGHT
TZOFFSETFROM:+0100
TZOFFSETTO:+0200
TZNAME:CEST
DTSTART:20230326T010000
END:DAYLIGHT
BEGIN:STANDARD
TZOFFSETFROM:+0200
TZOFFSETTO:+0100
TZNAME:CET
DTSTART:20231029T010000
END:STANDARD
BEGIN:DAYLIGHT
TZOFFSETFROM:+0100
TZOFFSETTO:+0200
TZNAME:CEST
DTSTART:20240331T010000
END:DAYLIGHT
BEGIN:STANDARD
TZOFFSETFROM:+0200
TZOFFSETTO:+0100
TZNAME:CET
DTSTART:20241027T010000
END:STANDARD
BEGIN:DAYLIGHT
TZOFFSETFROM:+0100
TZOFFSETTO:+0200
TZNAME:CEST
DTSTART:20250330T010000
END:DAYLIGHT
BEGIN:STANDARD
TZOFFSETFROM:+0200
TZOFFSETTO:+0100
TZNAME:CET
DTSTART:20251026T010000
END:STANDARD
END:VTIMEZONE
BEGIN:VEVENT
DTSTART;TZID=Europe/Zurich:20241107T083000
DTEND;TZID=Europe/Zurich:20241107T120000
DTSTAMP:20260426T041724
CREATED:20240719T145228Z
LAST-MODIFIED:20240903T130259Z
UID:10000224-1730968200-1730980800@sesgb2b.ch
SUMMARY:VXT Training Lausanne 11.2024
DESCRIPTION:Formation VXT \n\n\n\nCette formation technique vous offre\, pendant une demi-journée\, un aperçu approfondi des fonctionnalités de VXT afin d’apprendre à utiliser le produit et répondre aux besoins en Signage de vos clients.  L’objectif est de pouvoir être capable d’utiliser VXT et accompagner vos clients dans sa mise en place. \n\n\n\nAprès avoir terminé la formation\, vous serez officiellement enregistré en tant que Swiss VXT Expert et pourrez utiliser cette désignation à des fins de marketing. \n\n\n\nEn tant que Swiss VXT Expert\, vous avez en outre un accès direct au support suisse. \n\n\n\nCette formation s’adresse aux techniciens ayant des connaissances préalables en matière de réseau et d’Internet. Le nombre de participants est limité à 6-8 personnes. L’ordre d’inscription est pris en compte. \n\n\n\nCoût: CHF 500.-  Vous recevez les produits suivants : \n\n\n\n\n2x Licence VXT Pro \, Abonnement d’une année\n\n\n\n\n \n\n\n\nCes licences seront utilisées pendant la formation pour créer votre propre organisation VXT. L’organisation reste ensuite votre propriété pour y héberger vos clients ou faire des tests. Après une année\, les licences de la formation seront expirées et devront être renouvellées par vos soins.  \n\n\n\nAprès l’inscription obligatoire\, vous recevrez une facture du distributeur de votre choix. \n\n\n\nInscription possible dès maintenant.
URL:https://sesgb2b.ch/portal/vxt-training-lausanne-11-2024/
LOCATION:Samsung Lausanne\, Avenue Gratta-Paille 1\, Lausanne\, VD\, 1018\, Switzerland
CATEGORIES:Training FR
ATTACH;FMTTYPE=image/png:https://sesgb2b.ch/wp-content/uploads/2024/04/Untitled-2.png
ORGANIZER;CN="SESG PreSales (FR)":MAILTO:w.chatelain@partner.samsung.com
END:VEVENT
BEGIN:VEVENT
DTSTART;TZID=Europe/Zurich:20241115T090000
DTEND;TZID=Europe/Zurich:20241115T130000
DTSTAMP:20260426T041724
CREATED:20240507T131624Z
LAST-MODIFIED:20241107T080159Z
UID:10000221-1731661200-1731675600@sesgb2b.ch
SUMMARY:VXT Training Zurich 11.2024
DESCRIPTION:VXT Training  \n\n\n\nDieses technische Training bietet euch während einem halben Tag vertiefte Einblicke in die Funktionalitäten von VXT um zu lernen\, wie ihr die Signage Anforderungen eurer Kunden umsetzen könnt. Ziel ist es\, VXT als Produkt und Dienstleistung zu vertreiben.  \n\n\n\nNach dem Abschluss des Trainings sind Sie offiziell als Swiss VXT Expert registriert und dürfen diese Bezeichnung für Marketingzwecke verwenden. \n\n\n\nAls Swiss VXT Expert haben Sie zudem direkten Zugang zum Schweizer Support. \n\n\n\nDieses Training richtet sich an Techniker mit Vorkenntnissen in Netzwerk und Internet. Die Teilnehmerzahl ist auf zehn Personen begrenzt. Es zählt die Reihenfolge der Anmeldung. \n\n\n\nKosten: ca CHF 500.- Sie erhalten folgende Produkte: \n\n\n\n\n1/2 Tag VXT Training am Samsung Standort Zürich\n\n\n\n2x VXT Pro Lizenzen\, 1 Jahr Subscription\n\n\n\n\n \n\n\n\nDiese Lizenzen werden im Training benutzt um eine eigene VXT Organization zu erstellen. Die Organization bleibt danach in eurem Besitzt (erstes Jahr).  \n\n\n\nNach der Verbindlichen Anmeldung\, erhalten Sie eine Rechnung von Ihrem Wahl Distributor.  \n\n\n\nAnmeldung möglich ab 07. September.
URL:https://sesgb2b.ch/portal/vxt-training-zurich-11-2024/
LOCATION:Samsung Zurich\, Giesshübelstrasse 30\, Zürich\, ZH\, 8045\, Switzerland
CATEGORIES:Training DE
ATTACH;FMTTYPE=image/png:https://sesgb2b.ch/wp-content/uploads/2024/04/Untitled-2.png
ORGANIZER;CN="SESG PreSales (DE)":MAILTO:t.beck@partner.samsung.com
END:VEVENT
END:VCALENDAR