BEGIN:VCALENDAR
VERSION:2.0
PRODID:-//SESG B2B PreSales - ECPv6.15.20//NONSGML v1.0//EN
CALSCALE:GREGORIAN
METHOD:PUBLISH
X-WR-CALNAME:SESG B2B PreSales
X-ORIGINAL-URL:https://sesgb2b.ch
X-WR-CALDESC:Events for SESG B2B PreSales
REFRESH-INTERVAL;VALUE=DURATION:PT1H
X-Robots-Tag:noindex
X-PUBLISHED-TTL:PT1H
BEGIN:VTIMEZONE
TZID:Europe/Zurich
BEGIN:DAYLIGHT
TZOFFSETFROM:+0100
TZOFFSETTO:+0200
TZNAME:CEST
DTSTART:20250330T010000
END:DAYLIGHT
BEGIN:STANDARD
TZOFFSETFROM:+0200
TZOFFSETTO:+0100
TZNAME:CET
DTSTART:20251026T010000
END:STANDARD
BEGIN:DAYLIGHT
TZOFFSETFROM:+0100
TZOFFSETTO:+0200
TZNAME:CEST
DTSTART:20260329T010000
END:DAYLIGHT
BEGIN:STANDARD
TZOFFSETFROM:+0200
TZOFFSETTO:+0100
TZNAME:CET
DTSTART:20261025T010000
END:STANDARD
BEGIN:DAYLIGHT
TZOFFSETFROM:+0100
TZOFFSETTO:+0200
TZNAME:CEST
DTSTART:20270328T010000
END:DAYLIGHT
BEGIN:STANDARD
TZOFFSETFROM:+0200
TZOFFSETTO:+0100
TZNAME:CET
DTSTART:20271031T010000
END:STANDARD
END:VTIMEZONE
BEGIN:VEVENT
DTSTART;TZID=Europe/Zurich:20261209T130000
DTEND;TZID=Europe/Zurich:20261209T170000
DTSTAMP:20260423T192848
CREATED:20260413T145308Z
LAST-MODIFIED:20260413T150222Z
UID:10000289-1796821200-1796835600@sesgb2b.ch
SUMMARY:LYNK Cloud Training Zurich 12.2026
DESCRIPTION:LYNK Cloud Certification Training  \n\n\n\nDieses technische Training gibt euch Einblicke in die Samsung HTV Welt. Neben einem Überblick über aktuelle Hardware erhaltet ihr vertiefte Informationen über die Funktionalitäten der Samsung HTV Lösung LYNK Cloud. \n\n\n\nNach dem Abschluss des Trainings sind Sie offiziell Samsung LYNK Cloud zertifiziert und dürfen diese Bezeichnung für Marketingzwecke verwenden. \n\n\n\nNur zertifizierte LYNK Cloud Partner dürfen LYNK Cloud als Produkt und Dienstleistung vertreiben. \n\n\n\nDieses Training richtet sich an Techniker mit Vorkenntnissen in Netzwerk und Internet. Die Teilnehmerzahl ist auf sechs Personen begrenzt. Es zählt die Reihenfolge der Anmeldung. \n\n\n\nKosten: ca CHF 500.- Sie erhalten folgende Produkte: \n\n\n\n\n1/2 Tag Lynk Cloud Training am Samsung Standort Zürich\n\n\n\n1x HG43U8000F Hotel TV\n\n\n\n1x Lynk Cloud Premium Lizenz\, 5 Jahre Subscription\n\n\n\n\n \n\n\n\nDiese Lizenzen werden im Training benutzt um eine eigene LYNK Cloud Company zu erstellen. Die Company bleibt danach in eurem Besitzt. \n\n\n\nNach der Verbindlichen Anmeldung\, erhalten Sie eine Rechnung von Ihrem Wahl Distributor.
URL:https://sesgb2b.ch/portal/lynk-cloud-training-zurich-12-2026/
LOCATION:Samsung Zurich\, Giesshübelstrasse 30\, Zürich\, ZH\, 8045\, Switzerland
CATEGORIES:Training DE
ATTACH;FMTTYPE=image/png:https://sesgb2b.ch/wp-content/uploads/2024/04/Untitled-2.png
ORGANIZER;CN="SESG PreSales (DE)":MAILTO:t.beck@partner.samsung.com
END:VEVENT
BEGIN:VEVENT
DTSTART;TZID=Europe/Zurich:20261211T083000
DTEND;TZID=Europe/Zurich:20261211T130000
DTSTAMP:20260423T192848
CREATED:20251217T130841Z
LAST-MODIFIED:20251217T130845Z
UID:10000282-1796977800-1796994000@sesgb2b.ch
SUMMARY:VXT Training Zurich 12.2026
DESCRIPTION:VXT Training  \n\n\n\nDieses technische Training bietet euch während einem halben Tag vertiefte Einblicke in die Funktionalitäten von VXT um zu lernen\, wie ihr die Signage Anforderungen eurer Kunden umsetzen könnt. Ziel ist es\, VXT als Produkt und Dienstleistung zu vertreiben.  \n\n\n\nNach dem Abschluss des Trainings sind Sie offiziell als Swiss VXT Expert registriert und dürfen diese Bezeichnung für Marketingzwecke verwenden. \n\n\n\nAls Swiss VXT Expert haben Sie zudem direkten Zugang zum Schweizer Support. \n\n\n\nDieses Training richtet sich an Techniker mit Vorkenntnissen in Netzwerk und Internet. Die Teilnehmerzahl ist auf zehn Personen begrenzt. Es zählt die Reihenfolge der Anmeldung. \n\n\n\nKosten: ca CHF 500.- Sie erhalten folgende Produkte: \n\n\n\n\n1/2 Tag VXT Training am Samsung Standort Zürich\n\n\n\n2x VXT Pro Lizenzen\, 1 Jahr Subscription\n\n\n\n\n \n\n\n\nDiese Lizenzen werden im Training benutzt um eine eigene VXT Organization zu erstellen. Die Organization bleibt danach in eurem Besitzt (erstes Jahr).  \n\n\n\nNach der Verbindlichen Anmeldung\, erhalten Sie eine Rechnung von Ihrem Wahl Distributor.  \n\n\n\nAnmeldung möglich ab 11.10.2026.
URL:https://sesgb2b.ch/portal/vxt-training-zurich-12-2026/
LOCATION:Samsung Zurich\, Giesshübelstrasse 30\, Zürich\, ZH\, 8045\, Switzerland
CATEGORIES:Training DE
ATTACH;FMTTYPE=image/png:https://sesgb2b.ch/wp-content/uploads/2024/04/Untitled-2.png
ORGANIZER;CN="SESG PreSales (DE)":MAILTO:t.beck@partner.samsung.com
END:VEVENT
END:VCALENDAR