BEGIN:VCALENDAR
VERSION:2.0
PRODID:-//SESG B2B PreSales - ECPv6.15.20//NONSGML v1.0//EN
CALSCALE:GREGORIAN
METHOD:PUBLISH
X-WR-CALNAME:SESG B2B PreSales
X-ORIGINAL-URL:https://sesgb2b.ch
X-WR-CALDESC:Events for SESG B2B PreSales
REFRESH-INTERVAL;VALUE=DURATION:PT1H
X-Robots-Tag:noindex
X-PUBLISHED-TTL:PT1H
BEGIN:VTIMEZONE
TZID:Europe/Zurich
BEGIN:DAYLIGHT
TZOFFSETFROM:+0100
TZOFFSETTO:+0200
TZNAME:CEST
DTSTART:20250330T010000
END:DAYLIGHT
BEGIN:STANDARD
TZOFFSETFROM:+0200
TZOFFSETTO:+0100
TZNAME:CET
DTSTART:20251026T010000
END:STANDARD
BEGIN:DAYLIGHT
TZOFFSETFROM:+0100
TZOFFSETTO:+0200
TZNAME:CEST
DTSTART:20260329T010000
END:DAYLIGHT
BEGIN:STANDARD
TZOFFSETFROM:+0200
TZOFFSETTO:+0100
TZNAME:CET
DTSTART:20261025T010000
END:STANDARD
BEGIN:DAYLIGHT
TZOFFSETFROM:+0100
TZOFFSETTO:+0200
TZNAME:CEST
DTSTART:20270328T010000
END:DAYLIGHT
BEGIN:STANDARD
TZOFFSETFROM:+0200
TZOFFSETTO:+0100
TZNAME:CET
DTSTART:20271031T010000
END:STANDARD
END:VTIMEZONE
BEGIN:VEVENT
DTSTART;TZID=Europe/Zurich:20260624T130000
DTEND;TZID=Europe/Zurich:20260624T170000
DTSTAMP:20260423T184841
CREATED:20260413T145955Z
LAST-MODIFIED:20260413T150023Z
UID:10000290-1782306000-1782320400@sesgb2b.ch
SUMMARY:LYNK Cloud Training Lausanne 06.2026
DESCRIPTION:Formation de certification LYNK Cloud \n\n\n\nCette formation technique vous offre un aperçu de l’univers HTV de Samsung. En plus d’une vue d’ensemble du matériel actuel\, vous recevrez des informations approfondies sur les fonctionnalités de la solution HTV Samsung LYNK Cloud. \n\n\n\nÀ l’issue de la formation\, vous serez officiellement certifié Samsung LYNK Cloud et pourrez utiliser cette certification à des fins marketing.Seuls les partenaires certifiés LYNK Cloud sont autorisés à commercialiser LYNK Cloud en tant que produit et service. \n\n\n\nCette formation s’adresse aux techniciens ayant des connaissances préalables en réseau et Internet. Le nombre de participants est limité à six personnes. Les inscriptions sont prises en compte dans l’ordre d’arrivée. \n\n\n\nCoût: approx. CHF 500.-  Vous recevez les produits suivants : \n\n\n\n\n1/2 journée de formation LYNK Cloud dans le Showroom Samsung  à Lausanne\n\n\n\n1x  HG43U8000F TV\n\n\n\n1x licence LYNK Cloud Premium valable 5 ans\n\n\n\n\n \n\n\n\nCes licences seront utilisées pendant la formation pour créer votre propre environnement LYNK Cloud. L’environnement reste ensuite votre propriété pour y héberger vos clients ou faire des tests. \n\n\n\nAprès l’inscription obligatoire\, vous recevrez une facture du distributeur de votre choix. \n\n\n\nInscription possible dès maintenant.
URL:https://sesgb2b.ch/portal/lynk-cloud-training-lausanne-06-2026/
LOCATION:Samsung Lausanne\, Avenue Gratta-Paille 1\, Lausanne\, VD\, 1018\, Switzerland
CATEGORIES:Training FR
ATTACH;FMTTYPE=image/png:https://sesgb2b.ch/wp-content/uploads/2024/04/Untitled-2.png
ORGANIZER;CN="SESG PreSales (FR)":MAILTO:w.chatelain@partner.samsung.com
END:VEVENT
END:VCALENDAR