BEGIN:VCALENDAR
VERSION:2.0
PRODID:-//SESG B2B PreSales - ECPv6.15.20//NONSGML v1.0//EN
CALSCALE:GREGORIAN
METHOD:PUBLISH
X-ORIGINAL-URL:https://sesgb2b.ch
X-WR-CALDESC:Events for SESG B2B PreSales
REFRESH-INTERVAL;VALUE=DURATION:PT1H
X-Robots-Tag:noindex
X-PUBLISHED-TTL:PT1H
BEGIN:VTIMEZONE
TZID:Europe/Zurich
BEGIN:DAYLIGHT
TZOFFSETFROM:+0100
TZOFFSETTO:+0200
TZNAME:CEST
DTSTART:20250330T010000
END:DAYLIGHT
BEGIN:STANDARD
TZOFFSETFROM:+0200
TZOFFSETTO:+0100
TZNAME:CET
DTSTART:20251026T010000
END:STANDARD
BEGIN:DAYLIGHT
TZOFFSETFROM:+0100
TZOFFSETTO:+0200
TZNAME:CEST
DTSTART:20260329T010000
END:DAYLIGHT
BEGIN:STANDARD
TZOFFSETFROM:+0200
TZOFFSETTO:+0100
TZNAME:CET
DTSTART:20261025T010000
END:STANDARD
BEGIN:DAYLIGHT
TZOFFSETFROM:+0100
TZOFFSETTO:+0200
TZNAME:CEST
DTSTART:20270328T010000
END:DAYLIGHT
BEGIN:STANDARD
TZOFFSETFROM:+0200
TZOFFSETTO:+0100
TZNAME:CET
DTSTART:20271031T010000
END:STANDARD
END:VTIMEZONE
BEGIN:VEVENT
DTSTART;TZID=Europe/Zurich:20260529T083000
DTEND;TZID=Europe/Zurich:20260529T120000
DTSTAMP:20260423T170717
CREATED:20251211T143000Z
LAST-MODIFIED:20251211T143007Z
UID:10000273-1780043400-1780056000@sesgb2b.ch
SUMMARY:VXT Training Lausanne 05.2026
DESCRIPTION:Formation VXT \n\n\n\nCette formation technique vous offre\, pendant une demi-journée\, un aperçu approfondi des fonctionnalités de VXT afin d’apprendre à utiliser le produit et répondre aux besoins en Signage de vos clients.  L’objectif est de pouvoir être capable d’utiliser VXT et accompagner vos clients dans sa mise en place. \n\n\n\nAprès avoir terminé la formation\, vous serez officiellement enregistré en tant que Swiss VXT Expert et pourrez utiliser cette désignation à des fins de marketing. \n\n\n\nEn tant que Swiss VXT Expert\, vous avez en outre un accès direct au support suisse. \n\n\n\nCette formation s’adresse aux techniciens ayant des connaissances préalables en matière de réseau et d’Internet. Le nombre de participants est limité à 6 personnes. L’ordre d’inscription est pris en compte. \n\n\n\nCoût: approx. CHF 500.-  Vous recevez les produits suivants : \n\n\n\n\n2x Licence VXT Pro \, Abonnement d’une année\n\n\n\n\n \n\n\n\nCes licences seront utilisées pendant la formation pour créer votre propre organisation VXT. L’organisation reste ensuite votre propriété pour y héberger vos clients ou faire des tests. Après une année\, les licences de la formation seront expirées et devront être renouvellées par vos soins.  \n\n\n\nAprès l’inscription obligatoire\, vous recevrez une facture du distributeur de votre choix. \n\n\n\nInscription possible dès maintenant.
URL:https://sesgb2b.ch/portal/vxt-training-lausanne-05-2026/
LOCATION:Samsung Lausanne\, Avenue Gratta-Paille 1\, Lausanne\, VD\, 1018\, Switzerland
CATEGORIES:Training FR
ATTACH;FMTTYPE=image/png:https://sesgb2b.ch/wp-content/uploads/2024/04/Untitled-2.png
ORGANIZER;CN="SESG PreSales (FR)":MAILTO:w.chatelain@partner.samsung.com
END:VEVENT
END:VCALENDAR