BEGIN:VCALENDAR
VERSION:2.0
PRODID:-//SESG B2B PreSales - ECPv6.15.20//NONSGML v1.0//EN
CALSCALE:GREGORIAN
METHOD:PUBLISH
X-WR-CALNAME:SESG B2B PreSales
X-ORIGINAL-URL:https://sesgb2b.ch
X-WR-CALDESC:Events for SESG B2B PreSales
REFRESH-INTERVAL;VALUE=DURATION:PT1H
X-Robots-Tag:noindex
X-PUBLISHED-TTL:PT1H
BEGIN:VTIMEZONE
TZID:Europe/Zurich
BEGIN:DAYLIGHT
TZOFFSETFROM:+0100
TZOFFSETTO:+0200
TZNAME:CEST
DTSTART:20200329T010000
END:DAYLIGHT
BEGIN:STANDARD
TZOFFSETFROM:+0200
TZOFFSETTO:+0100
TZNAME:CET
DTSTART:20201025T010000
END:STANDARD
BEGIN:DAYLIGHT
TZOFFSETFROM:+0100
TZOFFSETTO:+0200
TZNAME:CEST
DTSTART:20210328T010000
END:DAYLIGHT
BEGIN:STANDARD
TZOFFSETFROM:+0200
TZOFFSETTO:+0100
TZNAME:CET
DTSTART:20211031T010000
END:STANDARD
BEGIN:DAYLIGHT
TZOFFSETFROM:+0100
TZOFFSETTO:+0200
TZNAME:CEST
DTSTART:20220327T010000
END:DAYLIGHT
BEGIN:STANDARD
TZOFFSETFROM:+0200
TZOFFSETTO:+0100
TZNAME:CET
DTSTART:20221030T010000
END:STANDARD
BEGIN:DAYLIGHT
TZOFFSETFROM:+0100
TZOFFSETTO:+0200
TZNAME:CEST
DTSTART:20230326T010000
END:DAYLIGHT
BEGIN:STANDARD
TZOFFSETFROM:+0200
TZOFFSETTO:+0100
TZNAME:CET
DTSTART:20231029T010000
END:STANDARD
BEGIN:DAYLIGHT
TZOFFSETFROM:+0100
TZOFFSETTO:+0200
TZNAME:CEST
DTSTART:20240331T010000
END:DAYLIGHT
BEGIN:STANDARD
TZOFFSETFROM:+0200
TZOFFSETTO:+0100
TZNAME:CET
DTSTART:20241027T010000
END:STANDARD
END:VTIMEZONE
BEGIN:VEVENT
DTSTART;TZID=Europe/Zurich:20230330T083000
DTEND;TZID=Europe/Zurich:20230331T163000
DTSTAMP:20260423T202859
CREATED:20221114T091035Z
LAST-MODIFIED:20230322T122505Z
UID:10000061-1680165000-1680280200@sesgb2b.ch
SUMMARY:MagicINFO Training Zurich 03.2023
DESCRIPTION:Das technische Training beinhaltet eine volle MagicINFO Zertifizierung\, inklusive Prüfung am Ende. Wir geben Ihnen während zwei Tagen vertiefte Einblicke ins Line-up\, zeigen den Unterschied zwischen LED und LFD und schulen die MagicINFO Installation\, Konfiguration und die Lizensierung. Ziel ist es\, MagicINFO zertifizierter Partner zu werden\, um MagicINFO als Produkt und Dienstleistung zu vertreiben. Dieses Training richtet sich an Techniker\, die IP Netzwerke verstehen\, Windows Server und PCs verwalten können und daran interessiert sind\, unsere MagicINFO Software Lösung zu installieren und konfigurieren. Die Teilnehmerzahl ist auf acht Personen begrenzt. Es zählt die Reihenfolge der Anmeldung. Kosten: Maximal CHF 1500.- Sie erhalten folgende Produkte: \n\n\n\n2x QB13R Smart Signage Display (S6 Player)2x Unified 2 Lizenzen2x DataLink Lizenzen\n\n\n\nDiese Produkte ermöglichen Ihnen nach dem Training direkt ein eigenes Test Lab einzurichten und zu betreiben. Natürlich können Sie diese nach dem Training auch weiter verkaufen und / oder mit anderen Lizenzen zusammenmergen. Nach der Verbindlichen Anmeldung\, erhalten Sie ein Angebot von Ihrem wahl Distributor. Sie müssen dieses Angebot bis Spätestens zwei Wochen vor Training Bestätigen und Bestellen. Wichtig: Bei nicht bestehen der Prüfung werden Sie nicht Zertifiziert. Sie haben die möglichkeit an einem der nächsten Trainings nochmals (Kostenlos) teilzunehmen. \n\n\n\nAnmeldung möglich ab 30. Januar 2023
URL:https://sesgb2b.ch/portal/magicinfo-training-zurich-03-2023/
LOCATION:Samsung Zurich\, Giesshübelstrasse 30\, Zürich\, ZH\, 8045\, Switzerland
CATEGORIES:Training DE
ATTACH;FMTTYPE=image/jpeg:https://sesgb2b.ch/wp-content/uploads/2021/03/https___cdn.evbuc_.com_images_112249695_315811006879_1_original.jpeg
ORGANIZER;CN="SESG PreSales (DE)":MAILTO:t.beck@partner.samsung.com
END:VEVENT
BEGIN:VEVENT
DTSTART;TZID=Europe/Zurich:20230126T083000
DTEND;TZID=Europe/Zurich:20230127T163000
DTSTAMP:20260423T202859
CREATED:20221114T090747Z
LAST-MODIFIED:20221114T091118Z
UID:10000060-1674721800-1674837000@sesgb2b.ch
SUMMARY:MagicINFO Training Zurich 01.2023
DESCRIPTION:Das technische Training beinhaltet eine volle MagicINFO Zertifizierung\, inklusive Prüfung am Ende. Wir geben Ihnen während zwei Tagen vertiefte Einblicke ins Line-up\, zeigen den Unterschied zwischen LED und LFD und schulen die MagicINFO Installation\, Konfiguration und die Lizensierung. Ziel ist es\, MagicINFO zertifizierter Partner zu werden\, um MagicINFO als Produkt und Dienstleistung zu vertreiben. Dieses Training richtet sich an Techniker\, die IP Netzwerke verstehen\, Windows Server und PCs verwalten können und daran interessiert sind\, unsere MagicINFO Software Lösung zu installieren und konfigurieren. Die Teilnehmerzahl ist auf acht Personen begrenzt. Es zählt die Reihenfolge der Anmeldung. Kosten: Maximal CHF 1500.- Sie erhalten folgende Produkte: \n\n\n\n2x QB13R Smart Signage Display (S6 Player)2x Unified 2 Lizenzen2x DataLink Lizenzen\n\n\n\nDiese Produkte ermöglichen Ihnen nach dem Training direkt ein eigenes Test Lab einzurichten und zu betreiben. Natürlich können Sie diese nach dem Training auch weiter verkaufen und / oder mit anderen Lizenzen zusammenmergen. Nach der Verbindlichen Anmeldung\, erhalten Sie ein Angebot von Ihrem wahl Distributor. Sie müssen dieses Angebot bis Spätestens zwei Wochen vor Training Bestätigen und Bestellen. Wichtig: Bei nicht bestehen der Prüfung werden Sie nicht Zertifiziert. Sie haben die möglichkeit an einem der nächsten Trainings nochmals (Kostenlos) teilzunehmen. \n\n\n\nAnmeldung möglich ab 26. November 2022
URL:https://sesgb2b.ch/portal/magicinfo-training-zurich-01-2023/
LOCATION:Samsung Zurich\, Giesshübelstrasse 30\, Zürich\, ZH\, 8045\, Switzerland
CATEGORIES:Training DE
ATTACH;FMTTYPE=image/jpeg:https://sesgb2b.ch/wp-content/uploads/2021/03/https___cdn.evbuc_.com_images_112249695_315811006879_1_original.jpeg
ORGANIZER;CN="SESG PreSales (DE)":MAILTO:t.beck@partner.samsung.com
END:VEVENT
BEGIN:VEVENT
DTSTART;TZID=Europe/Zurich:20221117T083000
DTEND;TZID=Europe/Zurich:20221118T163000
DTSTAMP:20260423T202859
CREATED:20211210T070320Z
LAST-MODIFIED:20221010T120648Z
UID:10000048-1668673800-1668789000@sesgb2b.ch
SUMMARY:MagicINFO Training Zurich 11.2022
DESCRIPTION:Das technische Training beinhaltet eine volle MagicINFO Zertifizierung\, inklusive Prüfung am Ende. Wir geben Ihnen während zwei Tagen vertiefte Einblicke ins Line-up\, zeigen den Unterschied zwischen LED und LFD und schulen die MagicINFO Installation\, Konfiguration und die Lizensierung. Ziel ist es\, MagicINFO zertifizierter Partner zu werden\, um MagicINFO als Produkt und Dienstleistung zu vertreiben. Dieses Training richtet sich an Techniker\, die IP Netzwerke verstehen\, Windows Server und PCs verwalten können und daran interessiert sind\, unsere MagicINFO Software Lösung zu installieren und konfigurieren. Die Teilnehmerzahl ist auf acht Personen begrenzt. Es zählt die Reihenfolge der Anmeldung. Kosten: Maximal CHF 1500.- Sie erhalten folgende Produkte: \n\n\n\n2x QB13R Smart Signage Display (S6 Player)2x Unified 2 Lizenzen2x DataLink Lizenzen\n\n\n\nDiese Produkte ermöglichen Ihnen nach dem Training direkt ein eigenes Test Lab einzurichten und zu betreiben. Natürlich können Sie diese nach dem Training auch weiter verkaufen und / oder mit anderen Lizenzen zusammenmergen. Nach der Verbindlichen Anmeldung\, erhalten Sie ein Angebot von Ihrem wahl Distributor. Sie müssen dieses Angebot bis Spätestens zwei Wochen vor Training Bestätigen und Bestellen. Wichtig: Bei nicht bestehen der Prüfung werden Sie nicht Zertifiziert. Sie haben die möglichkeit an einem der nächsten Trainings nochmals (Kostenlos) teilzunehmen. \n\n\n\nAnmeldung möglich ab 01. September 2022
URL:https://sesgb2b.ch/portal/magicinfo-training-zurich-09-2022-2/
LOCATION:Samsung Zurich\, Giesshübelstrasse 30\, Zürich\, ZH\, 8045\, Switzerland
CATEGORIES:Training DE
ATTACH;FMTTYPE=image/jpeg:https://sesgb2b.ch/wp-content/uploads/2021/03/https___cdn.evbuc_.com_images_112249695_315811006879_1_original.jpeg
ORGANIZER;CN="SESG PreSales (DE)":MAILTO:t.beck@partner.samsung.com
END:VEVENT
BEGIN:VEVENT
DTSTART;TZID=Europe/Zurich:20220908T083000
DTEND;TZID=Europe/Zurich:20220909T163000
DTSTAMP:20260423T202859
CREATED:20211210T070029Z
LAST-MODIFIED:20220420T063522Z
UID:10000047-1662625800-1662741000@sesgb2b.ch
SUMMARY:MagicINFO Training Zurich 09.2022
DESCRIPTION:Das technische Training beinhaltet eine volle MagicINFO Zertifizierung\, inklusive Prüfung am Ende. Wir geben Ihnen während zwei Tagen vertiefte Einblicke ins Line-up\, zeigen den Unterschied zwischen LED und LFD und schulen die MagicINFO Installation\, Konfiguration und die Lizensierung. Ziel ist es\, MagicINFO zertifizierter Partner zu werden\, um MagicINFO als Produkt und Dienstleistung zu vertreiben. Dieses Training richtet sich an Techniker\, die IP Netzwerke verstehen\, Windows Server und PCs verwalten können und daran interessiert sind\, unsere MagicINFO Software Lösung zu installieren und konfigurieren. Die Teilnehmerzahl ist auf acht Personen begrenzt. Es zählt die Reihenfolge der Anmeldung. Kosten: Maximal CHF 1500.- Sie erhalten folgende Produkte: \n\n\n\n2x QB13R Smart Signage Display (S6 Player)2x Unified 2 Lizenzen2x DataLink Lizenzen\n\n\n\nDiese Produkte ermöglichen Ihnen nach dem Training direkt ein eigenes Test Lab einzurichten und zu betreiben. Natürlich können Sie diese nach dem Training auch weiter verkaufen und / oder mit anderen Lizenzen zusammenmergen. Nach der Verbindlichen Anmeldung\, erhalten Sie ein Angebot von Ihrem wahl Distributor. Sie müssen dieses Angebot bis Spätestens zwei Wochen vor Training Bestätigen und Bestellen. Wichtig: Bei nicht bestehen der Prüfung werden Sie nicht Zertifiziert. Sie haben die möglichkeit an einem der nächsten Trainings nochmals (Kostenlos) teilzunehmen. \n\n\n\nAnmeldung möglich ab 01. Juli 2022
URL:https://sesgb2b.ch/portal/magicinfo-training-zurich-09-2022/
LOCATION:Samsung Zurich\, Giesshübelstrasse 30\, Zürich\, ZH\, 8045\, Switzerland
CATEGORIES:Training DE
ATTACH;FMTTYPE=image/jpeg:https://sesgb2b.ch/wp-content/uploads/2021/03/https___cdn.evbuc_.com_images_112249695_315811006879_1_original.jpeg
ORGANIZER;CN="SESG PreSales (DE)":MAILTO:t.beck@partner.samsung.com
END:VEVENT
BEGIN:VEVENT
DTSTART;TZID=Europe/Zurich:20220630T083000
DTEND;TZID=Europe/Zurich:20220701T163000
DTSTAMP:20260423T202859
CREATED:20211210T064950Z
LAST-MODIFIED:20220420T063426Z
UID:10000046-1656577800-1656693000@sesgb2b.ch
SUMMARY:MagicINFO Training Zurich 06.2022
DESCRIPTION:Das technische Training beinhaltet eine volle MagicINFO Zertifizierung\, inklusive Prüfung am Ende. Wir geben Ihnen während zwei Tagen vertiefte Einblicke ins Line-up\, zeigen den Unterschied zwischen LED und LFD und schulen die MagicINFO Installation\, Konfiguration und die Lizensierung. Ziel ist es\, MagicINFO zertifizierter Partner zu werden\, um MagicINFO als Produkt und Dienstleistung zu vertreiben. Dieses Training richtet sich an Techniker\, die IP Netzwerke verstehen\, Windows Server und PCs verwalten können und daran interessiert sind\, unsere MagicINFO Software Lösung zu installieren und konfigurieren. Die Teilnehmerzahl ist auf acht Personen begrenzt. Es zählt die Reihenfolge der Anmeldung. Kosten: Maximal CHF 1500.- Sie erhalten folgende Produkte: \n\n\n\n2x QB13R Smart Signage Display (S6 Player)2x Unified 2 Lizenzen2x DataLink Lizenzen\n\n\n\nDiese Produkte ermöglichen Ihnen nach dem Training direkt ein eigenes Test Lab einzurichten und zu betreiben. Natürlich können Sie diese nach dem Training auch weiter verkaufen und / oder mit anderen Lizenzen zusammenmergen. Nach der Verbindlichen Anmeldung\, erhalten Sie ein Angebot von Ihrem wahl Distributor. Sie müssen dieses Angebot bis Spätestens zwei Wochen vor Training Bestätigen und Bestellen. Wichtig: Bei nicht bestehen der Prüfung werden Sie nicht Zertifiziert. Sie haben die möglichkeit an einem der nächsten Trainings nochmals (Kostenlos) teilzunehmen. \n\n\n\nAnmeldung möglich ab 01. April 2022
URL:https://sesgb2b.ch/portal/magicinfo-training-zurich-06-2022/
LOCATION:Samsung Zurich\, Giesshübelstrasse 30\, Zürich\, ZH\, 8045\, Switzerland
CATEGORIES:Training DE
ATTACH;FMTTYPE=image/jpeg:https://sesgb2b.ch/wp-content/uploads/2021/03/https___cdn.evbuc_.com_images_112249695_315811006879_1_original.jpeg
ORGANIZER;CN="SESG PreSales (DE)":MAILTO:t.beck@partner.samsung.com
END:VEVENT
BEGIN:VEVENT
DTSTART;TZID=Europe/Zurich:20220428T083000
DTEND;TZID=Europe/Zurich:20220429T163000
DTSTAMP:20260423T202859
CREATED:20211210T064747Z
LAST-MODIFIED:20220422T081835Z
UID:10000045-1651134600-1651249800@sesgb2b.ch
SUMMARY:MagicINFO Training Zurich 04.2022
DESCRIPTION:Das technische Training beinhaltet eine volle MagicINFO Zertifizierung\, inklusive Prüfung am Ende. Wir geben Ihnen während zwei Tagen vertiefte Einblicke ins Line-up\, zeigen den Unterschied zwischen LED und LFD und schulen die MagicINFO Installation\, Konfiguration und die Lizensierung. Ziel ist es\, MagicINFO zertifizierter Partner zu werden\, um MagicINFO als Produkt und Dienstleistung zu vertreiben. Dieses Training richtet sich an Techniker\, die IP Netzwerke verstehen\, Windows Server und PCs verwalten können und daran interessiert sind\, unsere MagicINFO Software Lösung zu installieren und konfigurieren. Die Teilnehmerzahl ist auf acht Personen begrenzt. Es zählt die Reihenfolge der Anmeldung. Kosten: Maximal CHF 1500.- Sie erhalten folgende Produkte: \n\n\n\n2x QB13R Smart Signage Display (S6 Player)2x Unified 2 Lizenzen2x DataLink Lizenzen\n\n\n\nDiese Produkte ermöglichen Ihnen nach dem Training direkt ein eigenes Test Lab einzurichten und zu betreiben. Natürlich können Sie diese nach dem Training auch weiter verkaufen und / oder mit anderen Lizenzen zusammenmergen. Nach der Verbindlichen Anmeldung\, erhalten Sie ein Angebot von Ihrem wahl Distributor. Sie müssen dieses Angebot bis Spätestens zwei Wochen vor Training Bestätigen und Bestellen. Wichtig: Bei nicht bestehen der Prüfung werden Sie nicht Zertifiziert. Sie haben die möglichkeit an einem der nächsten Trainings nochmals (Kostenlos) teilzunehmen. \n\n\n\nAnmeldung möglich ab 13. Februar 2022
URL:https://sesgb2b.ch/portal/magicinfo-training-zurich-04-2022/
LOCATION:Samsung Zurich\, Giesshübelstrasse 30\, Zürich\, ZH\, 8045\, Switzerland
CATEGORIES:Training DE
ATTACH;FMTTYPE=image/jpeg:https://sesgb2b.ch/wp-content/uploads/2021/03/https___cdn.evbuc_.com_images_112249695_315811006879_1_original.jpeg
ORGANIZER;CN="SESG PreSales (DE)":MAILTO:t.beck@partner.samsung.com
END:VEVENT
BEGIN:VEVENT
DTSTART;TZID=Europe/Zurich:20220210T083000
DTEND;TZID=Europe/Zurich:20220211T163000
DTSTAMP:20260423T202859
CREATED:20211207T120941Z
LAST-MODIFIED:20220201T122912Z
UID:10000044-1644481800-1644597000@sesgb2b.ch
SUMMARY:MagicINFO Training Zurich 02.2022
DESCRIPTION:Das technische Training beinhaltet eine volle MagicINFO Zertifizierung\, inklusive Prüfung am Ende. Wir geben Ihnen während zwei Tagen vertiefte Einblicke ins Line-up\, zeigen den Unterschied zwischen LED und LFD und schulen die MagicINFO Installation\, Konfiguration und die Lizensierung. Ziel ist es\, MagicINFO zertifizierter Partner zu werden\, um MagicINFO als Produkt und Dienstleistung zu vertreiben. Dieses Training richtet sich an Techniker\, die IP Netzwerke verstehen\, Windows Server und PCs verwalten können und daran interessiert sind\, unsere MagicINFO Software Lösung zu installieren und konfigurieren. Die Teilnehmerzahl ist auf acht Personen begrenzt. Es zählt die Reihenfolge der Anmeldung. Kosten: Maximal CHF 1500.- Sie erhalten folgende Produkte: \n\n\n\n2x QB13R Smart Signage Display (S6 Player)2x Unified 2 Lizenzen2x DataLink Lizenzen\n\n\n\nDiese Produkte ermöglichen Ihnen nach dem Training direkt ein eigenes Test Lab einzurichten und zu betreiben. Natürlich können Sie diese nach dem Training auch weiter verkaufen und / oder mit anderen Lizenzen zusammenmergen. Nach der Verbindlichen Anmeldung\, erhalten Sie ein Angebot von Ihrem wahl Distributor. Sie müssen dieses Angebot bis Spätestens zwei Wochen vor Training Bestätigen und Bestellen. Wichtig: Bei nicht bestehen der Prüfung werden Sie nicht Zertifiziert. Sie haben die möglichkeit an einem der nächsten Trainings nochmals (Kostenlos) teilzunehmen. \n\n\n\nAnmeldung möglich ab 01. Januar 2022
URL:https://sesgb2b.ch/portal/magicinfo-training-zurich-02-2022/
LOCATION:Samsung Zurich\, Giesshübelstrasse 30\, Zürich\, ZH\, 8045\, Switzerland
CATEGORIES:Training DE
ATTACH;FMTTYPE=image/jpeg:https://sesgb2b.ch/wp-content/uploads/2021/03/https___cdn.evbuc_.com_images_112249695_315811006879_1_original.jpeg
ORGANIZER;CN="SESG PreSales (DE)":MAILTO:t.beck@partner.samsung.com
END:VEVENT
BEGIN:VEVENT
DTSTART;TZID=Europe/Zurich:20211209T083000
DTEND;TZID=Europe/Zurich:20211210T163000
DTSTAMP:20260423T202859
CREATED:20210701T070038Z
LAST-MODIFIED:20210916T092233Z
UID:10000042-1639038600-1639153800@sesgb2b.ch
SUMMARY:MagicINFO Training Zurich 12.2021
DESCRIPTION:Das technische Training beinhaltet eine volle MagicINFO Zertifizierung\, inklusive Prüfung am Ende. Wir geben Ihnen während zwei Tagen vertiefte Einblicke ins Line-up\, zeigen den Unterschied zwischen LED und LFD und schulen die MagicINFO Installation\, Konfiguration und die Lizensierung. Ziel ist es\, MagicINFO zertifizierter Partner zu werden\, um MagicINFO als Produkt und Dienstleistung zu vertreiben. Dieses Training richtet sich an Techniker\, die IP Netzwerke verstehen\, Windows Server und PCs verwalten können und daran interessiert sind\, unsere MagicINFO Software Lösung zu installieren und konfigurieren. Die Teilnehmerzahl ist auf acht Personen begrenzt. Es zählt die Reihenfolge der Anmeldung. Kosten: Maximal CHF 1500.- Sie erhalten folgende Produkte: \n\n\n\n2x QB13R Smart Signage Display (S6 Player)2x Unified 2 Lizenzen2x DataLink Lizenzen\n\n\n\nDiese Produkte ermöglichen Ihnen nach dem Training direkt ein eigenes Test Lab einzurichten und zu betreiben. Natürlich können Sie diese nach dem Training auch weiter verkaufen und / oder mit anderen Lizenzen zusammenmergen. Nach der Verbindlichen Anmeldung\, erhalten Sie ein Angebot von Ihrem wahl Distributor. Sie müssen dieses Angebot bis Spätestens zwei Wochen vor Training Bestätigen und Bestellen. Wichtig: Bei nicht bestehen der Prüfung werden Sie nicht Zertifiziert. Sie haben die möglichkeit an einem der nächsten Trainings nochmals (Kostenlos) teilzunehmen. \n\n\n\nAnmeldung möglich ab 01. Oktober 2021
URL:https://sesgb2b.ch/portal/magicinfo-training-zurich-12-2021/
LOCATION:Samsung Zurich\, Giesshübelstrasse 30\, Zürich\, ZH\, 8045\, Switzerland
CATEGORIES:Training DE
ATTACH;FMTTYPE=image/jpeg:https://sesgb2b.ch/wp-content/uploads/2021/03/https___cdn.evbuc_.com_images_112249695_315811006879_1_original.jpeg
ORGANIZER;CN="SESG PreSales (DE)":MAILTO:t.beck@partner.samsung.com
END:VEVENT
BEGIN:VEVENT
DTSTART;TZID=Europe/Zurich:20211007T083000
DTEND;TZID=Europe/Zurich:20211008T163000
DTSTAMP:20260423T202859
CREATED:20210302T154738Z
LAST-MODIFIED:20210825T085905Z
UID:10000032-1633595400-1633710600@sesgb2b.ch
SUMMARY:MagicINFO Training Zurich
DESCRIPTION:Das technische Training beinhaltet eine volle MagicINFO Zertifizierung\, inklusive Prüfung am Ende. Wir geben Ihnen während zwei Tagen vertiefte Einblicke ins Line-up\, zeigen den Unterschied zwischen LED und LFD und schulen die MagicINFO Installation\, Konfiguration und die Lizensierung. Ziel ist es\, MagicINFO zertifizierter Partner zu werden\, um MagicINFO als Produkt und Dienstleistung zu vertreiben. Dieses Training richtet sich an Techniker\, die IP Netzwerke verstehen\, Windows Server und PCs verwalten können und daran interessiert sind\, unsere MagicINFO Software Lösung zu installieren und konfigurieren. Die Teilnehmerzahl ist auf acht Personen begrenzt. Es zählt die Reihenfolge der Anmeldung. Kosten: Maximal CHF 1500.- Sie erhalten folgende Produkte: \n\n2x QB13R Smart Signage Display (S6 Player)\n2x Unified 2 Lizenzen\n2x DataLink Lizenzen\n\nDiese Produkte ermöglichen Ihnen nach dem Training direkt ein eigenes Test Lab einzurichten und zu betreiben. Natürlich können Sie diese nach dem Training auch weiter verkaufen und / oder mit anderen Lizenzen zusammenmergen. Nach der Verbindlichen Anmeldung\, erhalten Sie ein Angebot von Ihrem wahl Distributor. Sie müssen dieses Angebot bis Spätestens zwei Wochen vor Training Bestätigen und Bestellen. Wichtig: Bei nicht bestehen der Prüfung werden Sie nicht Zertifiziert. Sie haben die möglichkeit an einem der nächsten Trainings nochmals (Kostenlos) teilzunehmen. \nAnmeldungen sind ab 01. August 2021 möglich. \n\n\n\n\n\n\n\n\n \n\n\n\nAnmeldungen sind ab 01. August 2021 möglich.
URL:https://sesgb2b.ch/portal/magicinfo-training-zurich-2021-10-07/
LOCATION:Samsung Zurich\, Giesshübelstrasse 30\, Zürich\, ZH\, 8045\, Switzerland
CATEGORIES:Training DE
ATTACH;FMTTYPE=image/jpeg:https://sesgb2b.ch/wp-content/uploads/2020/11/https___cdn.evbuc_.com_images_112249695_315811006879_1_original.jpeg
ORGANIZER;CN="SESG PreSales (DE)":MAILTO:t.beck@partner.samsung.com
END:VEVENT
BEGIN:VEVENT
DTSTART;TZID=Europe/Zurich:20210826T083000
DTEND;TZID=Europe/Zurich:20210827T163000
DTSTAMP:20260423T202859
CREATED:20210302T154738Z
LAST-MODIFIED:20210825T085632Z
UID:10000031-1629966600-1630081800@sesgb2b.ch
SUMMARY:MagicINFO Training Zurich 08.2021
DESCRIPTION:Das technische Training beinhaltet eine volle MagicINFO Zertifizierung\, inklusive Prüfung am Ende. Wir geben Ihnen während zwei Tagen vertiefte Einblicke ins Line-up\, zeigen den Unterschied zwischen LED und LFD und schulen die MagicINFO Installation\, Konfiguration und die Lizensierung. Ziel ist es\, MagicINFO zertifizierter Partner zu werden\, um MagicINFO als Produkt und Dienstleistung zu vertreiben. Dieses Training richtet sich an Techniker\, die IP Netzwerke verstehen\, Windows Server und PCs verwalten können und daran interessiert sind\, unsere MagicINFO Software Lösung zu installieren und konfigurieren. Die Teilnehmerzahl ist auf acht Personen begrenzt. Es zählt die Reihenfolge der Anmeldung. Kosten: Maximal CHF 1500.- Sie erhalten folgende Produkte: \n\n2x QB13R Smart Signage Display (S6 Player)\n2x Unified 2 Lizenzen\n2x DataLink Lizenzen\n\nDiese Produkte ermöglichen Ihnen nach dem Training direkt ein eigenes Test Lab einzurichten und zu betreiben. Natürlich können Sie diese nach dem Training auch weiter verkaufen und / oder mit anderen Lizenzen zusammenmergen. Nach der Verbindlichen Anmeldung\, erhalten Sie ein Angebot von Ihrem wahl Distributor. Sie müssen dieses Angebot bis Spätestens zwei Wochen vor Training Bestätigen und Bestellen. Wichtig: Bei nicht bestehen der Prüfung werden Sie nicht Zertifiziert. Sie haben die möglichkeit an einem der nächsten Trainings nochmals (Kostenlos) teilzunehmen.
URL:https://sesgb2b.ch/portal/magicinfo-training-zurich-2021-09-02/
LOCATION:Samsung Zurich\, Giesshübelstrasse 30\, Zürich\, ZH\, 8045\, Switzerland
CATEGORIES:Training DE
ATTACH;FMTTYPE=image/jpeg:https://sesgb2b.ch/wp-content/uploads/2020/11/https___cdn.evbuc_.com_images_112249695_315811006879_1_original.jpeg
ORGANIZER;CN="SESG PreSales (DE)":MAILTO:t.beck@partner.samsung.com
END:VEVENT
BEGIN:VEVENT
DTSTART;TZID=Europe/Zurich:20210621T080000
DTEND;TZID=Europe/Zurich:20210622T170000
DTSTAMP:20260423T202859
CREATED:20210526T062618Z
LAST-MODIFIED:20210615T105547Z
UID:10000040-1624262400-1624381200@sesgb2b.ch
SUMMARY:MagicINFO Training Zurich 06.2021
DESCRIPTION:Das technische Training beinhaltet eine volle MagicINFO Zertifizierung\, inklusive Prüfung am Ende. Wir geben Ihnen während zwei Tagen vertiefte Einblicke ins Line-up\, zeigen den Unterschied zwischen LED und LFD und schulen die MagicINFO Installation\, Konfiguration und die Lizensierung. Ziel ist es\, MagicINFO zertifizierter Partner zu werden\, um MagicINFO als Produkt und Dienstleistung zu vertreiben. Dieses Training richtet sich an Techniker\, die IP Netzwerke verstehen\, Windows Server und PCs verwalten können und daran interessiert sind\, unsere MagicINFO Software Lösung zu installieren und konfigurieren. Die Teilnehmerzahl ist auf acht Personen begrenzt. Es zählt die Reihenfolge der Anmeldung. Kosten: Maximal CHF 1500.- Sie erhalten folgende Produkte: \n\n\n\n2x QB13R Smart Signage Display (S6 Player)2x Unified 2 Lizenzen2x DataLink Lizenzen\n\n\n\nDiese Produkte ermöglichen Ihnen nach dem Training direkt ein eigenes Test Lab einzurichten und zu betreiben. Natürlich können Sie diese nach dem Training auch weiter verkaufen und / oder mit anderen Lizenzen zusammenmergen. Nach der Verbindlichen Anmeldung\, erhalten Sie ein Angebot von Ihrem wahl Distributor. Sie müssen dieses Angebot bis Spätestens zwei Wochen vor Training Bestätigen und Bestellen. Wichtig: Bei nicht bestehen der Prüfung werden Sie nicht Zertifiziert. Sie haben die möglichkeit an einem der nächsten Trainings nochmals (Kostenlos) teilzunehmen.
URL:https://sesgb2b.ch/portal/magicinfo-training-zurich-06-2021/
LOCATION:Samsung Zurich\, Giesshübelstrasse 30\, Zürich\, ZH\, 8045\, Switzerland
CATEGORIES:Training DE
ATTACH;FMTTYPE=image/jpeg:https://sesgb2b.ch/wp-content/uploads/2021/03/https___cdn.evbuc_.com_images_112249695_315811006879_1_original.jpeg
ORGANIZER;CN="SESG PreSales (DE)":MAILTO:t.beck@partner.samsung.com
END:VEVENT
BEGIN:VEVENT
DTSTART;TZID=Europe/Zurich:20210617T083000
DTEND;TZID=Europe/Zurich:20210618T163000
DTSTAMP:20260423T202859
CREATED:20210302T154738Z
LAST-MODIFIED:20210615T105618Z
UID:10000030-1623918600-1624033800@sesgb2b.ch
SUMMARY:MagicINFO Training Zurich
DESCRIPTION:Das technische Training beinhaltet eine volle MagicINFO Zertifizierung\, inklusive Prüfung am Ende. Wir geben Ihnen während zwei Tagen vertiefte Einblicke ins Line-up\, zeigen den Unterschied zwischen LED und LFD und schulen die MagicINFO Installation\, Konfiguration und die Lizensierung. Ziel ist es\, MagicINFO zertifizierter Partner zu werden\, um MagicINFO als Produkt und Dienstleistung zu vertreiben. Dieses Training richtet sich an Techniker\, die IP Netzwerke verstehen\, Windows Server und PCs verwalten können und daran interessiert sind\, unsere MagicINFO Software Lösung zu installieren und konfigurieren. Die Teilnehmerzahl ist auf acht Personen begrenzt. Es zählt die Reihenfolge der Anmeldung. Kosten: Maximal CHF 1500.- Sie erhalten folgende Produkte: \n\n2x QB13R Smart Signage Display (S6 Player)\n2x Unified 2 Lizenzen\n2x DataLink Lizenzen\n\nDiese Produkte ermöglichen Ihnen nach dem Training direkt ein eigenes Test Lab einzurichten und zu betreiben. Natürlich können Sie diese nach dem Training auch weiter verkaufen und / oder mit anderen Lizenzen zusammenmergen. Nach der Verbindlichen Anmeldung\, erhalten Sie ein Angebot von Ihrem wahl Distributor. Sie müssen dieses Angebot bis Spätestens zwei Wochen vor Training Bestätigen und Bestellen. Wichtig: Bei nicht bestehen der Prüfung werden Sie nicht Zertifiziert. Sie haben die möglichkeit an einem der nächsten Trainings nochmals (Kostenlos) teilzunehmen.
URL:https://sesgb2b.ch/portal/magicinfo-training-zurich-2021-06-17/
LOCATION:Samsung Zurich\, Giesshübelstrasse 30\, Zürich\, ZH\, 8045\, Switzerland
CATEGORIES:Training DE
ATTACH;FMTTYPE=image/jpeg:https://sesgb2b.ch/wp-content/uploads/2020/11/https___cdn.evbuc_.com_images_112249695_315811006879_1_original.jpeg
ORGANIZER;CN="SESG PreSales (DE)":MAILTO:t.beck@partner.samsung.com
END:VEVENT
END:VCALENDAR