BEGIN:VCALENDAR
VERSION:2.0
PRODID:-//SESG B2B PreSales - ECPv6.15.20//NONSGML v1.0//EN
CALSCALE:GREGORIAN
METHOD:PUBLISH
X-ORIGINAL-URL:https://sesgb2b.ch
X-WR-CALDESC:Events for SESG B2B PreSales
REFRESH-INTERVAL;VALUE=DURATION:PT1H
X-Robots-Tag:noindex
X-PUBLISHED-TTL:PT1H
BEGIN:VTIMEZONE
TZID:Europe/Zurich
BEGIN:DAYLIGHT
TZOFFSETFROM:+0100
TZOFFSETTO:+0200
TZNAME:CEST
DTSTART:20250330T010000
END:DAYLIGHT
BEGIN:STANDARD
TZOFFSETFROM:+0200
TZOFFSETTO:+0100
TZNAME:CET
DTSTART:20251026T010000
END:STANDARD
BEGIN:DAYLIGHT
TZOFFSETFROM:+0100
TZOFFSETTO:+0200
TZNAME:CEST
DTSTART:20260329T010000
END:DAYLIGHT
BEGIN:STANDARD
TZOFFSETFROM:+0200
TZOFFSETTO:+0100
TZNAME:CET
DTSTART:20261025T010000
END:STANDARD
BEGIN:DAYLIGHT
TZOFFSETFROM:+0100
TZOFFSETTO:+0200
TZNAME:CEST
DTSTART:20270328T010000
END:DAYLIGHT
BEGIN:STANDARD
TZOFFSETFROM:+0200
TZOFFSETTO:+0100
TZNAME:CET
DTSTART:20271031T010000
END:STANDARD
END:VTIMEZONE
BEGIN:VEVENT
DTSTART;TZID=Europe/Zurich:20260429T100000
DTEND;TZID=Europe/Zurich:20260429T120000
DTSTAMP:20260423T185402
CREATED:20260120T065847Z
LAST-MODIFIED:20260120T065851Z
UID:10000284-1777456800-1777464000@sesgb2b.ch
SUMMARY:LYNK Cloud Training 04.2026
DESCRIPTION:LYNK Cloud Introduction Training \n\n\n\nDieses technische Training gibt euch Einblicke in die Samsung HTV Welt. \n\n\n\nNeben einem Überblick über aktuelle Hardware erhaltet ihr vertiefte Informationen über die Funktionalitäten der Samsung HTV Lösung LYNK Cloud. \n\n\n\nMit dem Training erhält jeder Teilnehmer eine gratis Test Lizenz\, damit ein eigenes Lab aufgesetzt werden kann. \n\n\n\nNach dem Abschluss des Trainings und mit dem Aufsetzen eines eigenen Labs im Selbststudium sind Sie offiziell Samsung LYNK Cloud zertifiziert und dürfen diese Bezeichnung für Marketingzwecke verwenden. Nur zertifizierte LYNK Cloud Partner dürfen LYNK Cloud als Produkt und Dienstleistung vertreiben.
URL:https://sesgb2b.ch/portal/lynk-cloud-training-04-2026/
LOCATION:Online\, Online\, Switzerland
CATEGORIES:Training DE
ATTACH;FMTTYPE=image/jpeg:https://sesgb2b.ch/wp-content/uploads/2024/12/Capture.jpg
ORGANIZER;CN="SESG PreSales (DE)":MAILTO:t.beck@partner.samsung.com
END:VEVENT
END:VCALENDAR