BEGIN:VCALENDAR
VERSION:2.0
PRODID:-//SESG B2B PreSales - ECPv6.15.20//NONSGML v1.0//EN
CALSCALE:GREGORIAN
METHOD:PUBLISH
X-WR-CALNAME:SESG B2B PreSales
X-ORIGINAL-URL:https://sesgb2b.ch
X-WR-CALDESC:Events for SESG B2B PreSales
REFRESH-INTERVAL;VALUE=DURATION:PT1H
X-Robots-Tag:noindex
X-PUBLISHED-TTL:PT1H
BEGIN:VTIMEZONE
TZID:Europe/Zurich
BEGIN:DAYLIGHT
TZOFFSETFROM:+0100
TZOFFSETTO:+0200
TZNAME:CEST
DTSTART:20250330T010000
END:DAYLIGHT
BEGIN:STANDARD
TZOFFSETFROM:+0200
TZOFFSETTO:+0100
TZNAME:CET
DTSTART:20251026T010000
END:STANDARD
BEGIN:DAYLIGHT
TZOFFSETFROM:+0100
TZOFFSETTO:+0200
TZNAME:CEST
DTSTART:20260329T010000
END:DAYLIGHT
BEGIN:STANDARD
TZOFFSETFROM:+0200
TZOFFSETTO:+0100
TZNAME:CET
DTSTART:20261025T010000
END:STANDARD
BEGIN:DAYLIGHT
TZOFFSETFROM:+0100
TZOFFSETTO:+0200
TZNAME:CEST
DTSTART:20270328T010000
END:DAYLIGHT
BEGIN:STANDARD
TZOFFSETFROM:+0200
TZOFFSETTO:+0100
TZNAME:CET
DTSTART:20271031T010000
END:STANDARD
END:VTIMEZONE
BEGIN:VEVENT
DTSTART;TZID=Europe/Zurich:20260220T083000
DTEND;TZID=Europe/Zurich:20260220T130000
DTSTAMP:20260423T202306
CREATED:20251217T125313Z
LAST-MODIFIED:20251217T125318Z
UID:10000277-1771576200-1771592400@sesgb2b.ch
SUMMARY:VXT Training Zurich 02.2026
DESCRIPTION:VXT Training  \n\n\n\nDieses technische Training bietet euch während einem halben Tag vertiefte Einblicke in die Funktionalitäten von VXT um zu lernen\, wie ihr die Signage Anforderungen eurer Kunden umsetzen könnt. Ziel ist es\, VXT als Produkt und Dienstleistung zu vertreiben.  \n\n\n\nNach dem Abschluss des Trainings sind Sie offiziell als Swiss VXT Expert registriert und dürfen diese Bezeichnung für Marketingzwecke verwenden. \n\n\n\nAls Swiss VXT Expert haben Sie zudem direkten Zugang zum Schweizer Support. \n\n\n\nDieses Training richtet sich an Techniker mit Vorkenntnissen in Netzwerk und Internet. Die Teilnehmerzahl ist auf zehn Personen begrenzt. Es zählt die Reihenfolge der Anmeldung. \n\n\n\nKosten: ca CHF 500.- Sie erhalten folgende Produkte: \n\n\n\n\n1/2 Tag VXT Training am Samsung Standort Zürich\n\n\n\n2x VXT Pro Lizenzen\, 1 Jahr Subscription\n\n\n\n\n \n\n\n\nDiese Lizenzen werden im Training benutzt um eine eigene VXT Organization zu erstellen. Die Organization bleibt danach in eurem Besitzt (erstes Jahr).  \n\n\n\nNach der Verbindlichen Anmeldung\, erhalten Sie eine Rechnung von Ihrem Wahl Distributor.  \n\n\n\nAnmeldung möglich ab sofort.
URL:https://sesgb2b.ch/portal/vxt-training-zurich-02-2026/
LOCATION:Samsung Zurich\, Giesshübelstrasse 30\, Zürich\, ZH\, 8045\, Switzerland
CATEGORIES:Training DE
ATTACH;FMTTYPE=image/png:https://sesgb2b.ch/wp-content/uploads/2024/04/Untitled-2.png
ORGANIZER;CN="SESG PreSales (DE)":MAILTO:t.beck@partner.samsung.com
END:VEVENT
BEGIN:VEVENT
DTSTART;TZID=Europe/Zurich:20260225T100000
DTEND;TZID=Europe/Zurich:20260225T120000
DTSTAMP:20260423T202306
CREATED:20251217T080605Z
LAST-MODIFIED:20260219T191420Z
UID:10000276-1772013600-1772020800@sesgb2b.ch
SUMMARY:LYNK Cloud Training 02.2026
DESCRIPTION:LYNK Cloud Introduction Training \n\n\n\nDieses technische Training gibt euch Einblicke in die Samsung HTV Welt. \n\n\n\nNeben einem Überblick über aktuelle Hardware erhaltet ihr vertiefte Informationen über die Funktionalitäten der Samsung HTV Lösung LYNK Cloud. \n\n\n\nMit dem Training erhält jeder Teilnehmer eine gratis Test Lizenz\, damit ein eigenes Lab aufgesetzt werden kann. \n\n\n\nNach dem Abschluss des Trainings und mit dem Aufsetzen eines eigenen Labs im Selbststudium sind Sie offiziell Samsung LYNK Cloud zertifiziert und dürfen diese Bezeichnung für Marketingzwecke verwenden. Nur zertifizierte LYNK Cloud Partner dürfen LYNK Cloud als Produkt und Dienstleistung vertreiben.
URL:https://sesgb2b.ch/portal/lynk-cloud-training-02-2026/
LOCATION:Online\, Online\, Switzerland
CATEGORIES:Training DE
ATTACH;FMTTYPE=image/jpeg:https://sesgb2b.ch/wp-content/uploads/2024/12/Capture.jpg
ORGANIZER;CN="SESG PreSales (DE)":MAILTO:t.beck@partner.samsung.com
END:VEVENT
END:VCALENDAR