BEGIN:VCALENDAR
VERSION:2.0
PRODID:-//SESG B2B PreSales - ECPv6.15.20//NONSGML v1.0//EN
CALSCALE:GREGORIAN
METHOD:PUBLISH
X-ORIGINAL-URL:https://sesgb2b.ch
X-WR-CALDESC:Events for SESG B2B PreSales
REFRESH-INTERVAL;VALUE=DURATION:PT1H
X-Robots-Tag:noindex
X-PUBLISHED-TTL:PT1H
BEGIN:VTIMEZONE
TZID:Europe/Zurich
BEGIN:DAYLIGHT
TZOFFSETFROM:+0100
TZOFFSETTO:+0200
TZNAME:CEST
DTSTART:20210328T010000
END:DAYLIGHT
BEGIN:STANDARD
TZOFFSETFROM:+0200
TZOFFSETTO:+0100
TZNAME:CET
DTSTART:20211031T010000
END:STANDARD
BEGIN:DAYLIGHT
TZOFFSETFROM:+0100
TZOFFSETTO:+0200
TZNAME:CEST
DTSTART:20220327T010000
END:DAYLIGHT
BEGIN:STANDARD
TZOFFSETFROM:+0200
TZOFFSETTO:+0100
TZNAME:CET
DTSTART:20221030T010000
END:STANDARD
BEGIN:DAYLIGHT
TZOFFSETFROM:+0100
TZOFFSETTO:+0200
TZNAME:CEST
DTSTART:20230326T010000
END:DAYLIGHT
BEGIN:STANDARD
TZOFFSETFROM:+0200
TZOFFSETTO:+0100
TZNAME:CET
DTSTART:20231029T010000
END:STANDARD
END:VTIMEZONE
BEGIN:VEVENT
DTSTART;TZID=Europe/Zurich:20220316T093000
DTEND;TZID=Europe/Zurich:20220316T130000
DTSTAMP:20260423T205029
CREATED:20220208T122616Z
LAST-MODIFIED:20220208T123009Z
UID:10000055-1647423000-1647435600@sesgb2b.ch
SUMMARY:MagicINFO Update Event 03/02 DE Zurich
DESCRIPTION:Liebe Partner\, \n\n\n\nWir freuen uns sehr\, Sie zum nächsten MagicINFO Update Event einzuladen\, welches in Zürich stattfinden wird. \n\n\n\nMit diesem Update-Event können Sie Ihre MagicINFO-Zertifizierung für einen Zeitraum von 18 Monaten erneuern. \n\n\n\nSollten Sie noch nicht zertifiziert sein\, bitten wir Sie\, sich mit Ihrem Samsung Key Account Manager in Verbindung zu setzen\, damit er Sie über die nächsten Zertifizierungstermine informieren kann. \n\n\n\nWährend dieses Update-Events werden wir Ihnen Folgendes vorstellen: \n\n\n\n– Was ist neu in MagicINFO– Was ist neu in den MagicINFO-Modulen– Was ist neu in unseren B2B-Produkten– Informationen über einige Änderungen bei Samsung– Eine Erfolgsgeschichte in der Schweiz– Gemeinsames Mittagessen\n\n\n\n \n\n\n\nDa die Teilnehmerzahl für diese Update-Veranstaltung begrenzt ist\, bitten wir Sie\, sich so schnell wie möglich anzumelden\, um einen Platz zu garantieren. Die Teilnahme an dieser Update-Veranstaltung ist kostenlos. \n\n\n\nZur Erinnerung: Die Anmeldung an dieses Update-Event ist nur für MagicINFO-Zertifizierte Personen möglich. \n\n\n\nIm Anschluss an das Training wird eine Prüfung über MagicINFO stattfinden. Die Zertifizierung ist erst mit dem bestehen des Tests erreicht.  \n\n\n\n \n\n\n\nWir freuen uns\, Sie auf dieser Veranstaltung begrüßen zu dürfen und stehen Ihnen für weitere Informationen gerne zur Verfügung.
URL:https://sesgb2b.ch/portal/magicinfo-update-event-03-02-de-zurich/
LOCATION:Samsung Zurich\, Giesshübelstrasse 30\, Zürich\, ZH\, 8045\, Switzerland
CATEGORIES:offline
ORGANIZER;CN="SESG PreSales (DE)":MAILTO:t.beck@partner.samsung.com
END:VEVENT
END:VCALENDAR